Workbook
Name IQ_CH: 110000
Name IQ_CQ: 5000
Name IQ_CY: 10000
Name IQ_DAILY: 500000
Name IQ_FH: 100000
Name IQ_FQ: 500
Name IQ_FY: 1000
Name IQ_LTM: 2000
Name IQ_MONTH: 15000
Name IQ_NTM: 6000
Name IQ_WEEK: 50000
Name IQ_YTD: 3000
Name Languages: OFFSET('Language Index'!$CZ$8,,,'Language Index'!$CZ$7)

Sheet Scores
A1: =INDEX('Language Index'!$A$8:$A$10000,MATCH("CREDIT HEALTH PANEL - SCORES",'Language Index'!$B$8:$B$10000,0)) -> CREDIT HEALTH PANEL - SCORES | AA1: =_xll.ciqfunctions.udf.CIQ("1500","iq_ev_over_ltm_ebitda") -> NM
S2: 1 | T2: =VLOOKUP($S$2,$R$5:$S$9,2,FALSE) -> Public Peer List
A3: =INDEX('Language Index'!$A$8:$A$10000,MATCH("Company Ticker/ID",'Language Index'!$B$8:$B$10000,0)) -> Company Ticker/ID | B3: NYSE:IBM | D3: Select Language | S3: =IF($T$2=$S$9,C4,INDEX($T$5:$T$8,MATCH($T$2,$S$5:$S$8,0))) -> IQ217168020 | V3: =INDEX('Language Index'!$A$8:$A$10000,MATCH("Overall",'Language Index'!$B$8:$B$10000,0)) -> Overall | W3: =_xll.ciqfunctions.udf.CIQ($B$3,"IQ_OVERALL_SCORE",$S$3) -> 4
A4: =INDEX('Language Index'!$A$8:$A$10000,MATCH("List Type",'Language Index'!$B$8:$B$10000,0)) -> List Type | D4: =IF($T$2=$S$9,$S$16,"") | V4: =INDEX('Language Index'!$A$8:$A$10000,MATCH("Operational Score",'Language Index'!$B$8:$B$10000,0)) -> Operational Score | W4: =_xll.ciqfunctions.udf.CIQ($B$3,"IQ_OPERATIONAL_SCORE",$S$3) -> 2
A5: =INDEX('Language Index'!$A$8:$A$10000,MATCH("Currency",'Language Index'!$B$8:$B$10000,0)) -> Currency | B5: USD | R5: 1 | S5: =INDEX('Language Index'!$A$8:$A$10000,MATCH("Public Peer List",'Language Index'!$B$8:$B$10000,0)) -> Public Peer List | T5: =_xll.ciqfunctions.udf.CIQ($B$3,"IQ_PUBLIC_INDUSTRY_PEER_LIST_ID") -> IQ217168020 | V5: =INDEX('Language Index'!$A$8:$A$10000,MATCH("Solvency Score",'Language Index'!$B$8:$B$10000,0)) -> Solvency Score | W5: =_xll.ciqfunctions.udf.CIQ($B$3,"IQ_SOLVENCY_SCORE",$S$3) -> 4
R6: 2 | S6: =INDEX('Language Index'!$A$8:$A$10000,MATCH("Private Peer List",'Language Index'!$B$8:$B$10000,0)) -> Private Peer List | T6: =_xll.ciqfunctions.udf.CIQ($B$3,"IQ_PRIVATE_INDUSTRY_PEER_LIST_ID") -> IQ250882602 | V6: =INDEX('Language Index'!$A$8:$A$10000,MATCH("Liquidity Score",'Language Index'!$B$8:$B$10000,0)) -> Liquidity Score | W6: =_xll.ciqfunctions.udf.CIQ($B$3,"IQ_LIQUID_SCORE",$S$3) -> 3
A7: =_xll.ciqfunctions.udf.CIQ($B$3,"IQ_COMPANY_NAME") -> International Business Machines Corporation | R7: 3 | S7: =INDEX('Language Index'!$A$8:$A$10000,MATCH("Mixed Peer List",'Language Index'!$B$8:$B$10000,0)) -> Mixed Peer List | T7: =_xll.ciqfunctions.udf.CIQ($B$3,"IQ_MIXED_INDUSTRY_PEER_LIST_ID") -> IQ245877178
R8: 4 | S8: =INDEX('Language Index'!$A$8:$A$10000,MATCH("Quick Comps",'Language Index'!$B$8:$B$10000,0)) -> Quick Comps | T8: =_xll.ciqfunctions.udf.CIQ($B$3,"IQ_QUICK_COMPS_LIST_ID") -> IQ217168019
A9: =INDEX('Language Index'!$A$8:$A$10000,MATCH("Overall Score",'Language Index'!$B$8:$B$10000,0)) -> Overall Score | C9: =INDEX('Language Index'!$A$8:$A$10000,MATCH("Financial Category",'Language Index'!$B$8:$B$10000,0)) -> Financial Category | E9: =INDEX('Language Index'!$A$8:$A$10000,MATCH("Score",'Language Index'!$B$8:$B$10000,0)) -> Score | R9: 5 | S9: =INDEX('Language Index'!$A$8:$A$10000,MATCH("CompSet/Watchlist",'Language Index'!$B$8:$B$10000,0)) -> CompSet/Watchlist
A10: =IF(W3=1,$S$11,IF(W3=2,$S$12,IF(W3=3,$S$13,$S$14))) -> Bottom | C10: =INDEX('Language Index'!$A$8:$A$10000,MATCH("Operational",'Language Index'!$B$8:$B$10000,0)) -> Operational | E10: =IF(W4=1,$S$11,IF(W4=2,$S$12,IF(W4=3,$S$13,IF(W4=0,"NA",$S$14)))) -> Above Average
C11: =INDEX('Language Index'!$A$8:$A$10000,MATCH("Solvency",'Language Index'!$B$8:$B$10000,0)) -> Solvency | E11: =IF(W5=1,$S$11,IF(W5=2,$S$12,IF(W5=3,$S$13,IF(W5=0,"NA",$S$14)))) -> Bottom | S11: =INDEX('Language Index'!$A$8:$A$10000,MATCH("Top",'Language Index'!$B$8:$B$10000,0)) -> Top
C12: =INDEX('Language Index'!$A$8:$A$10000,MATCH("Liquidity",'Language Index'!$B$8:$B$10000,0)) -> Liquidity | E12: =IF(W6=1,$S$11,IF(W6=2,$S$12,IF(W6=3,$S$13,IF(W6=0,"NA",$S$14)))) -> Below Average | S12: =INDEX('Language Index'!$A$8:$A$10000,MATCH("Above Average",'Language Index'!$B$8:$B$10000,0)) -> Above Average
S13: =INDEX('Language Index'!$A$8:$A$10000,MATCH("Below Average",'Language Index'!$B$8:$B$10000,0)) -> Below Average
A14: =INDEX('Language Index'!$A$8:$A$10000,MATCH("Operational",'Language Index'!$B$8:$B$10000,0)) -> Operational | S14: =INDEX('Language Index'!$A$8:$A$10000,MATCH("Bottom",'Language Index'!$B$8:$B$10000,0)) -> Bottom
A15: =INDEX('Language Index'!$A$8:$A$10000,MATCH("Revenue Score",'Language Index'!$B$8:$B$10000,0)) -> Revenue Score | C15: =_xll.ciqfunctions.udf.CIQ($B$3,"iq_total_rev_score",$S$3) -> 1 | E15: =IF(C15=1,$S$11,IF(C15=2,$S$12,IF(C15=3,$S$13,IF(C15=0,"NA",$S$14)))) -> Top
A16: =INDEX('Language Index'!$A$8:$A$10000,MATCH("Total Equity Score",'Language Index'!$B$8:$B$10000,0)) -> Total Equity Score | C16: =_xll.ciqfunctions.udf.CIQ($B$3,"iq_total_equity_score",$S$3) -> 1 | E16: =IF(C16=1,$S$11,IF(C16=2,$S$12,IF(C16=3,$S$13,IF(C16=0,"NA",$S$14)))) -> Top | S16: =INDEX('Language Index'!$A$8:$A$10000,MATCH("Input ID in cell to Left",'Language Index'!$B$8:$B$10000,0)) -> Input ID in cell to Left
A17: =INDEX('Language Index'!$A$8:$A$10000,MATCH("Return on Capital Score",'Language Index'!$B$8:$B$10000,0)) -> Return on Capital Score | C17: =_xll.ciqfunctions.udf.CIQ($B$3,"iq_return_capital_score",$S$3) -> 3 | E17: =IF(C17=1,$S$11,IF(C17=2,$S$12,IF(C17=3,$S$13,IF(C17=0,"NA",$S$14)))) -> Below Average
A18: =INDEX('Language Index'!$A$8:$A$10000,MATCH("Recurring Earnings / Total Assets Score",'Language Index'!$B$8:$B$10000,0)) -> Recurring Earnings / Total Assets Score | C18: =_xll.ciqfunctions.udf.CIQ($B$3,"iq_recurring_earn_assets_score",$S$3) -> 3 | E18: =IF(C18=1,$S$11,IF(C18=2,$S$12,IF(C18=3,$S$13,IF(C18=0,"NA",$S$14)))) -> Below Average
A19: =INDEX('Language Index'!$A$8:$A$10000,MATCH("Net Working Capital / Revenue Score",'Language Index'!$B$8:$B$10000,0)) -> Net Working Capital / Revenue Score | C19: =_xll.ciqfunctions.udf.CIQ($B$3,"iq_net_working_cap_rev_score",$S$3) -> 4 | E19: =IF(C19=1,$S$11,IF(C19=2,$S$12,IF(C19=3,$S$13,IF(C19=0,"NA",$S$14)))) -> Bottom
A20: =INDEX('Language Index'!$A$8:$A$10000,MATCH("Asset Turnover Score",'Language Index'!$B$8:$B$10000,0)) -> Asset Turnover Score | C20: =_xll.ciqfunctions.udf.CIQ($B$3,"iq_asset_turns_score",$S$3) -> 4 | E20: =IF(C20=1,$S$11,IF(C20=2,$S$12,IF(C20=3,$S$13,IF(C20=0,"NA",$S$14)))) -> Bottom
A21: =INDEX('Language Index'!$A$8:$A$10000,MATCH("Intangible Assets / Revenue Score",'Language Index'!$B$8:$B$10000,0)) -> Intangible Assets / Revenue Score | C21: =_xll.ciqfunctions.udf.CIQ($B$3,"iq_intan_assets_rev_score",$S$3) -> 4 | E21: =IF(C21=1,$S$11,IF(C21=2,$S$12,IF(C21=3,$S$13,IF(C21=0,"NA",$S$14)))) -> Bottom
A22: =INDEX('Language Index'!$A$8:$A$10000,MATCH("Net Working Capital/ Total Assets Score",'Language Index'!$B$8:$B$10000,0)) -> Net Working Capital/ Total Assets Score | C22: =_xll.ciqfunctions.udf.CIQ($B$3,"iq_net_working_cap_total_assets_score",$S$3) -> 4 | E22: =IF(C22=1,$S$11,IF(C22=2,$S$12,IF(C22=3,$S$13,IF(C22=0,"NA",$S$14)))) -> Bottom
A23: =INDEX('Language Index'!$A$8:$A$10000,MATCH("Payables / Receivables Score",'Language Index'!$B$8:$B$10000,0)) -> Payables / Receivables Score | C23: =_xll.ciqfunctions.udf.CIQ($B$3,"iq_ap_ar_score",$S$3) -> 2 | E23: =IF(C23=1,$S$11,IF(C23=2,$S$12,IF(C23=3,$S$13,IF(C23=0,"NA",$S$14)))) -> Above Average
A24: =INDEX('Language Index'!$A$8:$A$10000,MATCH("Management Rate of Return Ratio Score",'Language Index'!$B$8:$B$10000,0)) -> Management Rate of Return Ratio Score | C24: =_xll.ciqfunctions.udf.CIQ($B$3,"iq_mgmt_rate_return_score",$S$3) -> 1 | E24: =IF(C24=1,$S$11,IF(C24=2,$S$12,IF(C24=3,$S$13,IF(C24=0,"NA",$S$14)))) -> Top
A25: =INDEX('Language Index'!$A$8:$A$10000,MATCH("Gross Margin % Score",'Language Index'!$B$8:$B$10000,0)) -> Gross Margin % Score | C25: =_xll.ciqfunctions.udf.CIQ($B$3,"iq_gross_margin_score",$S$3) -> 1 | E25: =IF(C25=1,$S$11,IF(C25=2,$S$12,IF(C25=3,$S$13,IF(C25=0,"NA",$S$14)))) -> Top
A26: =INDEX('Language Index'!$A$8:$A$10000,MATCH("EBITDA Margin % Score",'Language Index'!$B$8:$B$10000,0)) -> EBITDA Margin % Score | C26: =_xll.ciqfunctions.udf.CIQ($B$3,"iq_ebitda_margin_score",$S$3) -> 1 | E26: =IF(C26=1,$S$11,IF(C26=2,$S$12,IF(C26=3,$S$13,IF(C26=0,"NA",$S$14)))) -> Top
A28: =INDEX('Language Index'!$A$8:$A$10000,MATCH("Solvency",'Language Index'!$B$8:$B$10000,0)) -> Solvency
A29: =INDEX('Language Index'!$A$8:$A$10000,MATCH("FFO Interest Coverage Score",'Language Index'!$B$8:$B$10000,0)) -> FFO Interest Coverage Score | C29: =_xll.ciqfunctions.udf.CIQ($B$3,"iq_ffo_int_score",$S$3) -> 4 | E29: =IF(C29=1,$S$11,IF(C29=2,$S$12,IF(C29=3,$S$13,IF(C29=0,"NA",$S$14)))) -> Bottom
A30: =INDEX('Language Index'!$A$8:$A$10000,MATCH("EBITDA / Interest Exp. Score",'Language Index'!$B$8:$B$10000,0)) -> EBITDA / Interest Exp. Score | C30: =_xll.ciqfunctions.udf.CIQ($B$3,"iq_ebitda_int_score",$S$3) -> 4 | E30: =IF(C30=1,$S$11,IF(C30=2,$S$12,IF(C30=3,$S$13,IF(C30=0,"NA",$S$14)))) -> Bottom
A31: =INDEX('Language Index'!$A$8:$A$10000,MATCH("FFO / Total Debt Score",'Language Index'!$B$8:$B$10000,0)) -> FFO / Total Debt Score | C31: =_xll.ciqfunctions.udf.CIQ($B$3,"iq_ffo_total_debt_score",$S$3) -> 4 | E31: =IF(C31=1,$S$11,IF(C31=2,$S$12,IF(C31=3,$S$13,IF(C31=0,"NA",$S$14)))) -> Bottom
A32: =INDEX('Language Index'!$A$8:$A$10000,MATCH("Net Debt / EBITDA Score",'Language Index'!$B$8:$B$10000,0)) -> Net Debt / EBITDA Score | C32: =_xll.ciqfunctions.udf.CIQ($B$3,"iq_net_debt_ebitda_score",$S$3) -> 4 | E32: =IF(C32=1,$S$11,IF(C32=2,$S$12,IF(C32=3,$S$13,IF(C32=0,"NA",$S$14)))) -> Bottom
A33: =INDEX('Language Index'!$A$8:$A$10000,MATCH("Total Debt / Capital Score",'Language Index'!$B$8:$B$10000,0)) -> Total Debt / Capital Score | C33: =_xll.ciqfunctions.udf.CIQ($B$3,"iq_total_debt_cap_score",$S$3) -> 4 | E33: =IF(C33=1,$S$11,IF(C33=2,$S$12,IF(C33=3,$S$13,IF(C33=0,"NA",$S$14)))) -> Bottom
A34: =INDEX('Language Index'!$A$8:$A$10000,MATCH("Total Debt / Total Liabilities Score",'Language Index'!$B$8:$B$10000,0)) -> Total Debt / Total Liabilities Score | C34: =_xll.ciqfunctions.udf.CIQ($B$3,"iq_debt_total_liab_score",$S$3) -> 1 | E34: =IF(C34=1,$S$11,IF(C34=2,$S$12,IF(C34=3,$S$13,IF(C34=0,"NA",$S$14)))) -> Top
A35: =INDEX('Language Index'!$A$8:$A$10000,MATCH("Total Debt / Revenue Score",'Language Index'!$B$8:$B$10000,0)) -> Total Debt / Revenue Score | C35: =_xll.ciqfunctions.udf.CIQ($B$3,"iq_total_debt_total_rev_score",$S$3) -> 4 | E35: =IF(C35=1,$S$11,IF(C35=2,$S$12,IF(C35=3,$S$13,IF(C35=0,"NA",$S$14)))) -> Bottom
A37: =INDEX('Language Index'!$A$8:$A$10000,MATCH("Liquidity",'Language Index'!$B$8:$B$10000,0)) -> Liquidity
A38: =INDEX('Language Index'!$A$8:$A$10000,MATCH("(FFO + Cash) / Short Term Debt Score",'Language Index'!$B$8:$B$10000,0)) -> (FFO + Cash) / Short Term Debt Score | C38: =_xll.ciqfunctions.udf.CIQ($B$3,"iq_ffo_plus_cash_st_debt_score",$S$3) -> 4 | E38: =IF(C38=1,$S$11,IF(C38=2,$S$12,IF(C38=3,$S$13,IF(C38=0,"NA",$S$14)))) -> Bottom
A39: =INDEX('Language Index'!$A$8:$A$10000,MATCH("FFO / Gross Profit Score",'Language Index'!$B$8:$B$10000,0)) -> FFO / Gross Profit Score | C39: =_xll.ciqfunctions.udf.CIQ($B$3,"iq_ffo_gross_profit_score",$S$3) -> 3 | E39: =IF(C39=1,$S$11,IF(C39=2,$S$12,IF(C39=3,$S$13,IF(C39=0,"NA",$S$14)))) -> Below Average
A40: =INDEX('Language Index'!$A$8:$A$10000,MATCH("Basic Defense Interval Score",'Language Index'!$B$8:$B$10000,0)) -> Basic Defense Interval Score | C40: =_xll.ciqfunctions.udf.CIQ($B$3,"iq_basic_defense_interval_score",$S$3) -> 2 | E40: =IF(C40=1,$S$11,IF(C40=2,$S$12,IF(C40=3,$S$13,IF(C40=0,"NA",$S$14)))) -> Above Average
A41: =INDEX('Language Index'!$A$8:$A$10000,MATCH("Current Ratio Score",'Language Index'!$B$8:$B$10000,0)) -> Current Ratio Score | C41: =_xll.ciqfunctions.udf.CIQ($B$3,"iq_current_ratio_score",$S$3) -> 4 | E41: =IF(C41=1,$S$11,IF(C41=2,$S$12,IF(C41=3,$S$13,IF(C41=0,"NA",$S$14)))) -> Bottom
A42: =INDEX('Language Index'!$A$8:$A$10000,MATCH("Quick Ratio Score",'Language Index'!$B$8:$B$10000,0)) -> Quick Ratio Score | C42: =_xll.ciqfunctions.udf.CIQ($B$3,"iq_quick_ratio_score",$S$3) -> 4 | E42: =IF(C42=1,$S$11,IF(C42=2,$S$12,IF(C42=3,$S$13,IF(C42=0,"NA",$S$14)))) -> Bottom
...

Sheet Constituent Scores
A1: =INDEX('Language Index'!$A$8:$A$10000,MATCH("CREDIT HEALTH PANEL - CONSTITUENT SCORES",'Language Index'!$B$8:$B$10000,0)) -> CREDIT HEALTH PANEL - CONSTITUENT SCORES
A3: =INDEX('Language Index'!$A$8:$A$10000,MATCH("List ID",'Language Index'!$B$8:$B$10000,0)) -> List ID | B3: =Scores!$S$3 -> IQ217168020
C4: =INDEX('Language Index'!$A$8:$A$10000,MATCH("Operational Metrics",'Language Index'!$B$8:$B$10000,0)) -> Operational Metrics | Q4: =INDEX('Language Index'!$A$8:$A$10000,MATCH("Solvency Metrics",'Language Index'!$B$8:$B$10000,0)) -> Solvency Metrics | Z4: =INDEX('Language Index'!$A$8:$A$10000,MATCH("Liquidity Metrics",'Language Index'!$B$8:$B$10000,0)) -> Liquidity Metrics
C5: =INDEX('Language Index'!$A$8:$A$10000,MATCH("Operational Score",'Language Index'!$B$8:$B$10000,0)) -> Operational Score | D5: =INDEX('Language Index'!$A$8:$A$10000,MATCH("Revenue",'Language Index'!$B$8:$B$10000,0)) -> Revenue | E5: =INDEX('Language Index'!$A$8:$A$10000,MATCH("Total Equity",'Language Index'!$B$8:$B$10000,0)) -> Total Equity | F5: =INDEX('Language Index'!$A$8:$A$10000,MATCH("Return on Capital %",'Language Index'!$B$8:$B$10000,0)) -> Return on Capital % | G5: =INDEX('Language Index'!$A$8:$A$10000,MATCH("Recurring Earnings / Total Assets %",'Language Index'!$B$8:$B$10000,0)) -> Recurring Earnings / Total Assets % | H5: =INDEX('Language Index'!$A$8:$A$10000,MATCH("Net Working Capital / Revenue (x)",'Language Index'!$B$8:$B$10000,0)) -> Net Working Capital / Revenue (x) | I5: =INDEX('Language Index'!$A$8:$A$10000,MATCH("Asset Turnover (x)",'Language Index'!$B$8:$B$10000,0)) -> Asset Turnover (x) | J5: =INDEX('Language Index'!$A$8:$A$10000,MATCH("Intangible Assets / Revenue (x)",'Language Index'!$B$8:$B$10000,0)) -> Intangible Assets / Revenue (x) | K5: =INDEX('Language Index'!$A$8:$A$10000,MATCH("Net Working Capital / Total Assets (x)",'Language Index'!$B$8:$B$10000,0)) -> Net Working Capital / Total Assets (x) | L5: =INDEX('Language Index'!$A$8:$A$10000,MATCH("Payables / Receivables (x)",'Language Index'!$B$8:$B$10000,0)) -> Payables / Receivables (x) | M5: =INDEX('Language Index'!$A$8:$A$10000,MATCH("Management Rate of Return (%)",'Language Index'!$B$8:$B$10000,0)) -> Management Rate of Return (%) | N5: =INDEX('Language Index'!$A$8:$A$10000,MATCH("Gross Margin %",'Language Index'!$B$8:$B$10000,0)) -> Gross Margin % | O5: =INDEX('Language Index'!$A$8:$A$10000,MATCH("EBITDA Margin %",'Language Index'!$B$8:$B$10000,0)) -> EBITDA Margin % | Q5: =INDEX('Language Index'!$A$8:$A$10000,MATCH("Solvency Score",'Language Index'!$B$8:$B$10000,0)) -> Solvency Score | R5: =INDEX('Language Index'!$A$8:$A$10000,MATCH("FFO Interest Coverage (x)",'Language Index'!$B$8:$B$10000,0)) -> FFO Interest Coverage (x) | S5: =INDEX('Language Index'!$A$8:$A$10000,MATCH("EBITDA Coverage (x)",'Language Index'!$B$8:$B$10000,0)) -> EBITDA Coverage (x) | T5: =INDEX('Language Index'!$A$8:$A$10000,MATCH("FFO / Total Debt (x)",'Language Index'!$B$8:$B$10000,0)) -> FFO / Total Debt (x) | U5: =INDEX('Language Index'!$A$8:$A$10000,MATCH("Net Debt / EBITDA (x)",'Language Index'!$B$8:$B$10000,0)) -> Net Debt / EBITDA (x) | V5: =INDEX('Language Index'!$A$8:$A$10000,MATCH("Total Debt / Capital (%)",'Language Index'!$B$8:$B$10000,0)) -> Total Debt / Capital (%) | W5: =INDEX('Language Index'!$A$8:$A$10000,MATCH("Total Debt / Liabilities (%)",'Language Index'!$B$8:$B$10000,0)) -> Total Debt / Liabilities (%) | X5: =INDEX('Language Index'!$A$8:$A$10000,MATCH("Total Debt / Revenue (x)",'Language Index'!$B$8:$B$10000,0)) -> Total Debt / Revenue (x) | Z5: =INDEX('Language Index'!$A$8:$A$10000,MATCH("Liquidity Score",'Language Index'!$B$8:$B$10000,0)) -> Liquidity Score | AA5: =INDEX('Language Index'!$A$8:$A$10000,MATCH("FFO + Cash / Short Term Debt (x)",'Language Index'!$B$8:$B$10000,0)) -> FFO + Cash / Short Term Debt (x) | AB5: =INDEX('Language Index'!$A$8:$A$10000,MATCH("FFO / Gross Profit (x)",'Language Index'!$B$8:$B$10000,0)) -> FFO / Gross Profit (x) | AC5: =INDEX('Language Index'!$A$8:$A$10000,MATCH("Basic Defense Interval (days)",'Language Index'!$B$8:$B$10000,0)) -> Basic Defense Interval (days) | AD5: =INDEX('Language Index'!$A$8:$A$10000,MATCH("Current Ratio (x)",'Language Index'!$B$8:$B$10000,0)) -> Current Ratio (x) | AE5: =INDEX('Language Index'!$A$8:$A$10000,MATCH("Quick Ratio (x)",'Language Index'!$B$8:$B$10000,0)) -> Quick Ratio (x)
A6: =INDEX('Language Index'!$A$8:$A$10000,MATCH("ID",'Language Index'!$B$8:$B$10000,0)) -> ID | B6: =INDEX('Language Index'!$A$8:$A$10000,MATCH("Name",'Language Index'!$B$8:$B$10000,0)) -> Name
A7: =Scores!$B$3 -> NYSE:IBM | B7: =_xll.ciqfunctions.udf.CIQ($A7,"IQ_COMPANY_NAME") -> International Business Machines Corporation | C7: =IF($A7="","",_xll.ciqfunctions.udf.CIQ($A7,"IQ_OPERATIONAL_SCORE",$B$3)) -> 2 | D7: =IF($A7="","",_xll.ciqfunctions.udf.CIQ($A7,"IQ_TOTAL_REV_SCORE",$B$3)) -> 1 | E7: =IF($A7="","",_xll.ciqfunctions.udf.CIQ($A7,"IQ_TOTAL_EQUITY_SCORE",$B$3)) -> 1 | F7: =IF($A7="","",_xll.ciqfunctions.udf.CIQ($A7,"IQ_RETURN_CAPITAL_SCORE",$B$3)) -> 3 | G7: =IF($A7="","",_xll.ciqfunctions.udf.CIQ($A7,"IQ_RECURRING_EARN_ASSETS_SCORE",$B$3)) -> 3 | H7: =IF($A7="","",_xll.ciqfunctions.udf.CIQ($A7,"IQ_NET_WORKING_CAP_REV_SCORE",$B$3)) -> 4 | I7: =IF($A7="","",_xll.ciqfunctions.udf.CIQ($A7,"IQ_ASSET_TURNS_SCORE",$B$3)) -> 4 | J7: =IF($A7="","",_xll.ciqfunctions.udf.CIQ($A7,"IQ_INTAN_ASSETS_REV_SCORE",$B$3)) -> 4 | K7: =IF($A7="","",_xll.ciqfunctions.udf.CIQ($A7,"IQ_NET_WORKING_CAP_TOTAL_ASSETS_SCORE",$B$3)) -> 4 | L7: =IF($A7="","",_xll.ciqfunctions.udf.CIQ($A7,"IQ_AP_AR_SCORE",$B$3)) -> 2 | M7: =IF($A7="","",_xll.ciqfunctions.udf.CIQ($A7,"IQ_MGMT_RATE_RETURN_SCORE",$B$3)) -> 1 | N7: =IF($A7="","",_xll.ciqfunctions.udf.CIQ($A7,"IQ_GROSS_MARGIN_SCORE",$B$3)) -> 1 | O7: =IF($A7="","",_xll.ciqfunctions.udf.CIQ($A7,"IQ_EBITDA_MARGIN_SCORE",$B$3)) -> 1 | Q7: =IF($A7="","",_xll.ciqfunctions.udf.CIQ($A7,"IQ_SOLVENCY_SCORE",$B$3)) -> 4 | R7: =IF($A7="","",_xll.ciqfunctions.udf.CIQ($A7,"IQ_FFO_INT_SCORE",$B$3)) -> 4 | S7: =IF($A7="","",_xll.ciqfunctions.udf.CIQ($A7,"IQ_EBITDA_INT_SCORE",$B$3)) -> 4 | T7: =IF($A7="","",_xll.ciqfunctions.udf.CIQ($A7,"IQ_FFO_TOTAL_DEBT_SCORE",$B$3)) -> 4 | U7: =IF($A7="","",_xll.ciqfunctions.udf.CIQ($A7,"IQ_NET_DEBT_EBITDA_SCORE",$B$3)) -> 4 | V7: =IF($A7="","",_xll.ciqfunctions.udf.CIQ($A7,"IQ_TOTAL_DEBT_CAP_SCORE",$B$3)) -> 4 | W7: =IF($A7="","",_xll.ciqfunctions.udf.CIQ($A7,"IQ_DEBT_TOTAL_LIAB_SCORE",$B$3)) -> 1 | X7: =IF($A7="","",_xll.ciqfunctions.udf.CIQ($A7,"IQ_TOTAL_DEBT_TOTAL_REV_SCORE",$B$3)) -> 4 | Z7: =IF($A7="","",_xll.ciqfunctions.udf.CIQ($A7,"IQ_LIQUID_SCORE",$B$3)) -> 3 | AA7: =IF($A7="","",_xll.ciqfunctions.udf.CIQ($A7,"IQ_FFO_PLUS_CASH_ST_DEBT_SCORE",$B$3)) -> 4 | AB7: =IF($A7="","",_xll.ciqfunctions.udf.CIQ($A7,"IQ_FFO_GROSS_PROFIT_SCORE",$B$3)) -> 3 | AC7: =IF($A7="","",_xll.ciqfunctions.udf.CIQ($A7,"IQ_BASIC_DEFENSE_INTERVAL_SCORE",$B$3)) -> 2 | AD7: =IF($A7="","",_xll.ciqfunctions.udf.CIQ($A7,"IQ_CURRENT_RATIO_SCORE",$B$3)) -> 4 | AE7: =IF($A7="","",_xll.ciqfunctions.udf.CIQ($A7,"IQ_QUICK_RATIO_SCORE",$B$3)) -> 4
A9: =_xll.ciqfunctions.udf.CIQRANGE($B$3,"IQ_CONSTITUENTS_CHP",1,10000,,,,,$A$6) -> ID | B9: =_xll.ciqfunctions.udf.CIQRANGE($B$3,"IQ_CONSTITUENTS_NAME_CHP",1,10000,,,,,$B$6) -> Name
A10: NYSE:ACN | B10: Accenture plc | C10: =IF($A10="","",_xll.ciqfunctions.udf.CIQ($A10,"IQ_OPERATIONAL_SCORE",$B$3)) -> 2 | D10: =IF($A10="","",_xll.ciqfunctions.udf.CIQ($A10,"IQ_TOTAL_REV_SCORE",$B$3)) -> 1 | E10: =IF($A10="","",_xll.ciqfunctions.udf.CIQ($A10,"IQ_TOTAL_EQUITY_SCORE",$B$3)) -> 1 | F10: =IF($A10="","",_xll.ciqfunctions.udf.CIQ($A10,"IQ_RETURN_CAPITAL_SCORE",$B$3)) -> 1 | G10: =IF($A10="","",_xll.ciqfunctions.udf.CIQ($A10,"IQ_RECURRING_EARN_ASSETS_SCORE",$B$3)) -> 1 | H10: =IF($A10="","",_xll.ciqfunctions.udf.CIQ($A10,"IQ_NET_WORKING_CAP_REV_SCORE",$B$3)) -> 4 | I10: =IF($A10="","",_xll.ciqfunctions.udf.CIQ($A10,"IQ_ASSET_TURNS_SCORE",$B$3)) -> 3 | J10: =IF($A10="","",_xll.ciqfunctions.udf.CIQ($A10,"IQ_INTAN_ASSETS_REV_SCORE",$B$3)) -> 3 | K10: =IF($A10="","",_xll.ciqfunctions.udf.CIQ($A10,"IQ_NET_WORKING_CAP_TOTAL_ASSETS_SCORE",$B$3)) -> 4 | L10: =IF($A10="","",_xll.ciqfunctions.udf.CIQ($A10,"IQ_AP_AR_SCORE",$B$3)) -> 4 | M10: =IF($A10="","",_xll.ciqfunctions.udf.CIQ($A10,"IQ_MGMT_RATE_RETURN_SCORE",$B$3)) -> 1 | N10: =IF($A10="","",_xll.ciqfunctions.udf.CIQ($A10,"IQ_GROSS_MARGIN_SCORE",$B$3)) -> 2 | O10: =IF($A10="","",_xll.ciqfunctions.udf.CIQ($A10,"IQ_EBITDA_MARGIN_SCORE",$B$3)) -> 1 | Q10: =IF($A10="","",_xll.ciqfunctions.udf.CIQ($A10,"IQ_SOLVENCY_SCORE",$B$3)) -> 2 | R10: =IF($A10="","",_xll.ciqfunctions.udf.CIQ($A10,"IQ_FFO_INT_SCORE",$B$3)) -> 1 | S10: =IF($A10="","",_xll.ciqfunctions.udf.CIQ($A10,"IQ_EBITDA_INT_SCORE",$B$3)) -> 2 | T10: =IF($A10="","",_xll.ciqfunctions.udf.CIQ($A10,"IQ_FFO_TOTAL_DEBT_SCORE",$B$3)) -> 3 | U10: =IF($A10="","",_xll.ciqfunctions.udf.CIQ($A10,"IQ_NET_DEBT_EBITDA_SCORE",$B$3)) -> 0 | V10: =IF($A10="","",_xll.ciqfunctions.udf.CIQ($A10,"IQ_TOTAL_DEBT_CAP_SCORE",$B$3)) -> 1 | W10: =IF($A10="","",_xll.ciqfunctions.udf.CIQ($A10,"IQ_DEBT_TOTAL_LIAB_SCORE",$B$3)) -> 3 | X10: =IF($A10="","",_xll.ciqfunctions.udf.CIQ($A10,"IQ_TOTAL_DEBT_TOTAL_REV_SCORE",$B$3)) -> 2 | Z10: =IF($A10="","",_xll.ciqfunctions.udf.CIQ($A10,"IQ_LIQUID_SCORE",$B$3)) -> 2 | AA10: =IF($A10="","",_xll.ciqfunctions.udf.CIQ($A10,"IQ_FFO_PLUS_CASH_ST_DEBT_SCORE",$B$3)) -> 1 | AB10: =IF($A10="","",_xll.ciqfunctions.udf.CIQ($A10,"IQ_FFO_GROSS_PROFIT_SCORE",$B$3)) -> 1 | AC10: =IF($A10="","",_xll.ciqfunctions.udf.CIQ($A10,"IQ_BASIC_DEFENSE_INTERVAL_SCORE",$B$3)) -> 3 | AD10: =IF($A10="","",_xll.ciqfunctions.udf.CIQ($A10,"IQ_CURRENT_RATIO_SCORE",$B$3)) -> 3 | AE10: =IF($A10="","",_xll.ciqfunctions.udf.CIQ($A10,"IQ_QUICK_RATIO_SCORE",$B$3)) -> 3
A11: ENXTPA:ATO | B11: Atos SE | C11: =IF($A11="","",_xll.ciqfunctions.udf.CIQ($A11,"IQ_OPERATIONAL_SCORE",$B$3)) -> 4 | D11: =IF($A11="","",_xll.ciqfunctions.udf.CIQ($A11,"IQ_TOTAL_REV_SCORE",$B$3)) -> 4 | E11: =IF($A11="","",_xll.ciqfunctions.udf.CIQ($A11,"IQ_TOTAL_EQUITY_SCORE",$B$3)) -> 4 | F11: =IF($A11="","",_xll.ciqfunctions.udf.CIQ($A11,"IQ_RETURN_CAPITAL_SCORE",$B$3)) -> 4 | G11: =IF($A11="","",_xll.ciqfunctions.udf.CIQ($A11,"IQ_RECURRING_EARN_ASSETS_SCORE",$B$3)) -> 0 | H11: =IF($A11="","",_xll.ciqfunctions.udf.CIQ($A11,"IQ_NET_WORKING_CAP_REV_SCORE",$B$3)) -> 2 | I11: =IF($A11="","",_xll.ciqfunctions.udf.CIQ($A11,"IQ_ASSET_TURNS_SCORE",$B$3)) -> 2 | J11: =IF($A11="","",_xll.ciqfunctions.udf.CIQ($A11,"IQ_INTAN_ASSETS_REV_SCORE",$B$3)) -> 1 | K11: =IF($A11="","",_xll.ciqfunctions.udf.CIQ($A11,"IQ_NET_WORKING_CAP_TOTAL_ASSETS_SCORE",$B$3)) -> 2 | L11: =IF($A11="","",_xll.ciqfunctions.udf.CIQ($A11,"IQ_AP_AR_SCORE",$B$3)) -> 3 | M11: =IF($A11="","",_xll.ciqfunctions.udf.CIQ($A11,"IQ_MGMT_RATE_RETURN_SCORE",$B$3)) -> 3 | N11: =IF($A11="","",_xll.ciqfunctions.udf.CIQ($A11,"IQ_GROSS_MARGIN_SCORE",$B$3)) -> 4 | O11: =IF($A11="","",_xll.ciqfunctions.udf.CIQ($A11,"IQ_EBITDA_MARGIN_SCORE",$B$3)) -> 4 | Q11: =IF($A11="","",_xll.ciqfunctions.udf.CIQ($A11,"IQ_SOLVENCY_SCORE",$B$3)) -> 4 | R11: =IF($A11="","",_xll.ciqfunctions.udf.CIQ($A11,"IQ_FFO_INT_SCORE",$B$3)) -> 4 | S11: =IF($A11="","",_xll.ciqfunctions.udf.CIQ($A11,"IQ_EBITDA_INT_SCORE",$B$3)) -> 4 | T11: =IF($A11="","",_xll.ciqfunctions.udf.CIQ($A11,"IQ_FFO_TOTAL_DEBT_SCORE",$B$3)) -> 4 | U11: =IF($A11="","",_xll.ciqfunctions.udf.CIQ($A11,"IQ_NET_DEBT_EBITDA_SCORE",$B$3)) -> 4 | V11: =IF($A11="","",_xll.ciqfunctions.udf.CIQ($A11,"IQ_TOTAL_DEBT_CAP_SCORE",$B$3)) -> 4 | W11: =IF($A11="","",_xll.ciqfunctions.udf.CIQ($A11,"IQ_DEBT_TOTAL_LIAB_SCORE",$B$3)) -> 2 | X11: =IF($A11="","",_xll.ciqfunctions.udf.CIQ($A11,"IQ_TOTAL_DEBT_TOTAL_REV_SCORE",$B$3)) -> 3 | Z11: =IF($A11="","",_xll.ciqfunctions.udf.CIQ($A11,"IQ_LIQUID_SCORE",$B$3)) -> 4 | AA11: =IF($A11="","",_xll.ciqfunctions.udf.CIQ($A11,"IQ_FFO_PLUS_CASH_ST_DEBT_SCORE",$B$3)) -> 4 | AB11: =IF($A11="","",_xll.ciqfunctions.udf.CIQ($A11,"IQ_FFO_GROSS_PROFIT_SCORE",$B$3)) -> 4 | AC11: =IF($A11="","",_xll.ciqfunctions.udf.CIQ($A11,"IQ_BASIC_DEFENSE_INTERVAL_SCORE",$B$3)) -> 3 | AD11: =IF($A11="","",_xll.ciqfunctions.udf.CIQ($A11,"IQ_CURRENT_RATIO_SCORE",$B$3)) -> 3 | AE11: =IF($A11="","",_xll.ciqfunctions.udf.CIQ($A11,"IQ_QUICK_RATIO_SCORE",$B$3)) -> 3
A12: XTRA:BC8 | B12: Bechtle AG | C12: =IF($A12="","",_xll.ciqfunctions.udf.CIQ($A12,"IQ_OPERATIONAL_SCORE",$B$3)) -> 3 | D12: =IF($A12="","",_xll.ciqfunctions.udf.CIQ($A12,"IQ_TOTAL_REV_SCORE",$B$3)) -> 4 | E12: =IF($A12="","",_xll.ciqfunctions.udf.CIQ($A12,"IQ_TOTAL_EQUITY_SCORE",$B$3)) -> 4 | F12: =IF($A12="","",_xll.ciqfunctions.udf.CIQ($A12,"IQ_RETURN_CAPITAL_SCORE",$B$3)) -> 3 | G12: =IF($A12="","",_xll.ciqfunctions.udf.CIQ($A12,"IQ_RECURRING_EARN_ASSETS_SCORE",$B$3)) -> 4 | H12: =IF($A12="","",_xll.ciqfunctions.udf.CIQ($A12,"IQ_NET_WORKING_CAP_REV_SCORE",$B$3)) -> 1 | I12: =IF($A12="","",_xll.ciqfunctions.udf.CIQ($A12,"IQ_ASSET_TURNS_SCORE",$B$3)) -> 1 | J12: =IF($A12="","",_xll.ciqfunctions.udf.CIQ($A12,"IQ_INTAN_ASSETS_REV_SCORE",$B$3)) -> 2 | K12: =IF($A12="","",_xll.ciqfunctions.udf.CIQ($A12,"IQ_NET_WORKING_CAP_TOTAL_ASSETS_SCORE",$B$3)) -> 1 | L12: =IF($A12="","",_xll.ciqfunctions.udf.CIQ($A12,"IQ_AP_AR_SCORE",$B$3)) -> 2 | M12: =IF($A12="","",_xll.ciqfunctions.udf.CIQ($A12,"IQ_MGMT_RATE_RETURN_SCORE",$B$3)) -> 3 | N12: =IF($A12="","",_xll.ciqfunctions.udf.CIQ($A12,"IQ_GROSS_MARGIN_SCORE",$B$3)) -> 4 | O12: =IF($A12="","",_xll.ciqfunctions.udf.CIQ($A12,"IQ_EBITDA_MARGIN_SCORE",$B$3)) -> 4 | Q12: =IF($A12="","",_xll.ciqfunctions.udf.CIQ($A12,"IQ_SOLVENCY_SCORE",$B$3)) -> 2 | R12: =IF($A12="","",_xll.ciqfunctions.udf.CIQ($A12,"IQ_FFO_INT_SCORE",$B$3)) -> 3 | S12: =IF($A12="","",_xll.ciqfunctions.udf.CIQ($A12,"IQ_EBITDA_INT_SCORE",$B$3)) -> 3 | T12: =IF($A12="","",_xll.ciqfunctions.udf.CIQ($A12,"IQ_FFO_TOTAL_DEBT_SCORE",$B$3)) -> 3 | U12: =IF($A12="","",_xll.ciqfunctions.udf.CIQ($A12,"IQ_NET_DEBT_EBITDA_SCORE",$B$3)) -> 1 | V12: =IF($A12="","",_xll.ciqfunctions.udf.CIQ($A12,"IQ_TOTAL_DEBT_CAP_SCORE",$B$3)) -> 2 | W12: =IF($A12="","",_xll.ciqfunctions.udf.CIQ($A12,"IQ_DEBT_TOTAL_LIAB_SCORE",$B$3)) -> 2 | X12: =IF($A12="","",_xll.ciqfunctions.udf.CIQ($A12,"IQ_TOTAL_DEBT_TOTAL_REV_SCORE",$B$3)) -> 1 | Z12: =IF($A12="","",_xll.ciqfunctions.udf.CIQ($A12,"IQ_LIQUID_SCORE",$B$3)) -> 3 | AA12: =IF($A12="","",_xll.ciqfunctions.udf.CIQ($A12,"IQ_FFO_PLUS_CASH_ST_DEBT_SCORE",$B$3)) -> 4 | AB12: =IF($A12="","",_xll.ciqfunctions.udf.CIQ($A12,"IQ_FFO_GROSS_PROFIT_SCORE",$B$3)) -> 3 | AC12: =IF($A12="","",_xll.ciqfunctions.udf.CIQ($A12,"IQ_BASIC_DEFENSE_INTERVAL_SCORE",$B$3)) -> 4 | AD12: =IF($A12="","",_xll.ciqfunctions.udf.CIQ($A12,"IQ_CURRENT_RATIO_SCORE",$B$3)) -> 2 | AE12: =IF($A12="","",_xll.ciqfunctions.udf.CIQ($A12,"IQ_QUICK_RATIO_SCORE",$B$3)) -> 3
A13: ENXTPA:CAP | B13: Capgemini SE | C13: =IF($A13="","",_xll.ciqfunctions.udf.CIQ($A13,"IQ_OPERATIONAL_SCORE",$B$3)) -> 3 | D13: =IF($A13="","",_xll.ciqfunctions.udf.CIQ($A13,"IQ_TOTAL_REV_SCORE",$B$3)) -> 2 | E13: =IF($A13="","",_xll.ciqfunctions.udf.CIQ($A13,"IQ_TOTAL_EQUITY_SCORE",$B$3)) -> 2 | F13: =IF($A13="","",_xll.ciqfunctions.udf.CIQ($A13,"IQ_RETURN_CAPITAL_SCORE",$B$3)) -> 3 | G13: =IF($A13="","",_xll.ciqfunctions.udf.CIQ($A13,"IQ_RECURRING_EARN_ASSETS_SCORE",$B$3)) -> 3 | H13: =IF($A13="","",_xll.ciqfunctions.udf.CIQ($A13,"IQ_NET_WORKING_CAP_REV_SCORE",$B$3)) -> 2 | I13: =IF($A13="","",_xll.ciqfunctions.udf.CIQ($A13,"IQ_ASSET_TURNS_SCORE",$B$3)) -> 3 | J13: =IF($A13="","",_xll.ciqfunctions.udf.CIQ($A13,"IQ_INTAN_ASSETS_REV_SCORE",$B$3)) -> 4 | K13: =IF($A13="","",_xll.ciqfunctions.udf.CIQ($A13,"IQ_NET_WORKING_CAP_TOTAL_ASSETS_SCORE",$B$3)) -> 3 | L13: =IF($A13="","",_xll.ciqfunctions.udf.CIQ($A13,"IQ_AP_AR_SCORE",$B$3)) -> 1 | M13: =IF($A13="","",_xll.ciqfunctions.udf.CIQ($A13,"IQ_MGMT_RATE_RETURN_SCORE",$B$3)) -> 3 | N13: =IF($A13="","",_xll.ciqfunctions.udf.CIQ($A13,"IQ_GROSS_MARGIN_SCORE",$B$3)) -> 3 | O13: =IF($A13="","",_xll.ciqfunctions.udf.CIQ($A13,"IQ_EBITDA_MARGIN_SCORE",$B$3)) -> 3 | Q13: =IF($A13="","",_xll.ciqfunctions.udf.CIQ($A13,"IQ_SOLVENCY_SCORE",$B$3)) -> 3 | R13: =IF($A13="","",_xll.ciqfunctions.udf.CIQ($A13,"IQ_FFO_INT_SCORE",$B$3)) -> 4 | S13: =IF($A13="","",_xll.ciqfunctions.udf.CIQ($A13,"IQ_EBITDA_INT_SCORE",$B$3)) -> 3 | T13: =IF($A13="","",_xll.ciqfunctions.udf.CIQ($A13,"IQ_FFO_TOTAL_DEBT_SCORE",$B$3)) -> 4 | U13: =IF($A13="","",_xll.ciqfunctions.udf.CIQ($A13,"IQ_NET_DEBT_EBITDA_SCORE",$B$3)) -> 2 | V13: =IF($A13="","",_xll.ciqfunctions.udf.CIQ($A13,"IQ_TOTAL_DEBT_CAP_SCORE",$B$3)) -> 3 | W13: =IF($A13="","",_xll.ciqfunctions.udf.CIQ($A13,"IQ_DEBT_TOTAL_LIAB_SCORE",$B$3)) -> 1 | X13: =IF($A13="","",_xll.ciqfunctions.udf.CIQ($A13,"IQ_TOTAL_DEBT_TOTAL_REV_SCORE",$B$3)) -> 3 | Z13: =IF($A13="","",_xll.ciqfunctions.udf.CIQ($A13,"IQ_LIQUID_SCORE",$B$3)) -> 4 | AA13: =IF($A13="","",_xll.ciqfunctions.udf.CIQ($A13,"IQ_FFO_PLUS_CASH_ST_DEBT_SCORE",$B$3)) -> 4 | AB13: =IF($A13="","",_xll.ciqfunctions.udf.CIQ($A13,"IQ_FFO_GROSS_PROFIT_SCORE",$B$3)) -> 3 | AC13: =IF($A13="","",_xll.ciqfunctions.udf.CIQ($A13,"IQ_BASIC_DEFENSE_INTERVAL_SCORE",$B$3)) -> 3 | AD13: =IF($A13="","",_xll.ciqfunctions.udf.CIQ($A13,"IQ_CURRENT_RATIO_SCORE",$B$3)) -> 4 | AE13: =IF($A13="","",_xll.ciqfunctions.udf.CIQ($A13,"IQ_QUICK_RATIO_SCORE",$B$3)) -> 3
A14: TSX:GIB.A | B14: CGI Inc. | C14: =IF($A14="","",_xll.ciqfunctions.udf.CIQ($A14,"IQ_OPERATIONAL_SCORE",$B$3)) -> 3 | D14: =IF($A14="","",_xll.ciqfunctions.udf.CIQ($A14,"IQ_TOTAL_REV_SCORE",$B$3)) -> 4 | E14: =IF($A14="","",_xll.ciqfunctions.udf.CIQ($A14,"IQ_TOTAL_EQUITY_SCORE",$B$3)) -> 3 | F14: =IF($A14="","",_xll.ciqfunctions.udf.CIQ($A14,"IQ_RETURN_CAPITAL_SCORE",$B$3)) -> 2 | G14: =IF($A14="","",_xll.ciqfunctions.udf.CIQ($A14,"IQ_RECURRING_EARN_ASSETS_SCORE",$B$3)) -> 2 | H14: =IF($A14="","",_xll.ciqfunctions.udf.CIQ($A14,"IQ_NET_WORKING_CAP_REV_SCORE",$B$3)) -> 3 | I14: =IF($A14="","",_xll.ciqfunctions.udf.CIQ($A14,"IQ_ASSET_TURNS_SCORE",$B$3)) -> 4 | J14: =IF($A14="","",_xll.ciqfunctions.udf.CIQ($A14,"IQ_INTAN_ASSETS_REV_SCORE",$B$3)) -> 4 | K14: =IF($A14="","",_xll.ciqfunctions.udf.CIQ($A14,"IQ_NET_WORKING_CAP_TOTAL_ASSETS_SCORE",$B$3)) -> 3 | L14: =IF($A14="","",_xll.ciqfunctions.udf.CIQ($A14,"IQ_AP_AR_SCORE",$B$3)) -> 3 | M14: =IF($A14="","",_xll.ciqfunctions.udf.CIQ($A14,"IQ_MGMT_RATE_RETURN_SCORE",$B$3)) -> 2 | N14: =IF($A14="","",_xll.ciqfunctions.udf.CIQ($A14,"IQ_GROSS_MARGIN_SCORE",$B$3)) -> 3 | O14: =IF($A14="","",_xll.ciqfunctions.udf.CIQ($A14,"IQ_EBITDA_MARGIN_SCORE",$B$3)) -> 1 | Q14: =IF($A14="","",_xll.ciqfunctions.udf.CIQ($A14,"IQ_SOLVENCY_SCORE",$B$3)) -> 3 | R14: =IF($A14="","",_xll.ciqfunctions.udf.CIQ($A14,"IQ_FFO_INT_SCORE",$B$3)) -> 3 | S14: =IF($A14="","",_xll.ciqfunctions.udf.CIQ($A14,"IQ_EBITDA_INT_SCORE",$B$3)) -> 3 | T14: =IF($A14="","",_xll.ciqfunctions.udf.CIQ($A14,"IQ_FFO_TOTAL_DEBT_SCORE",$B$3)) -> 4 | U14: =IF($A14="","",_xll.ciqfunctions.udf.CIQ($A14,"IQ_NET_DEBT_EBITDA_SCORE",$B$3)) -> 2 | V14: =IF($A14="","",_xll.ciqfunctions.udf.CIQ($A14,"IQ_TOTAL_DEBT_CAP_SCORE",$B$3)) -> 2 | W14: =IF($A14="","",_xll.ciqfunctions.udf.CIQ($A14,"IQ_DEBT_TOTAL_LIAB_SCORE",$B$3)) -> 1 | X14: =IF($A14="","",_xll.ciqfunctions.udf.CIQ($A14,"IQ_TOTAL_DEBT_TOTAL_REV_SCORE",$B$3)) -> 3 | Z14: =IF($A14="","",_xll.ciqfunctions.udf.CIQ($A14,"IQ_LIQUID_SCORE",$B$3)) -> 3 | AA14: =IF($A14="","",_xll.ciqfunctions.udf.CIQ($A14,"IQ_FFO_PLUS_CASH_ST_DEBT_SCORE",$B$3)) -> 4 | AB14: =IF($A14="","",_xll.ciqfunctions.udf.CIQ($A14,"IQ_FFO_GROSS_PROFIT_SCORE",$B$3)) -> 1 | AC14: =IF($A14="","",_xll.ciqfunctions.udf.CIQ($A14,"IQ_BASIC_DEFENSE_INTERVAL_SCORE",$B$3)) -> 4 | AD14: =IF($A14="","",_xll.ciqfunctions.udf.CIQ($A14,"IQ_CURRENT_RATIO_SCORE",$B$3)) -> 4 | AE14: =IF($A14="","",_xll.ciqfunctions.udf.CIQ($A14,"IQ_QUICK_RATIO_SCORE",$B$3)) -> 4
A15: NasdaqGS:CTSH | B15: Cognizant Technology Solutions Corporation | C15: =IF($A15="","",_xll.ciqfunctions.udf.CIQ($A15,"IQ_OPERATIONAL_SCORE",$B$3)) -> 1 | D15: =IF($A15="","",_xll.ciqfunctions.udf.CIQ($A15,"IQ_TOTAL_REV_SCORE",$B$3)) -> 3 | E15: =IF($A15="","",_xll.ciqfunctions.udf.CIQ($A15,"IQ_TOTAL_EQUITY_SCORE",$B$3)) -> 1 | F15: =IF($A15="","",_xll.ciqfunctions.udf.CIQ($A15,"IQ_RETURN_CAPITAL_SCORE",$B$3)) -> 2 | G15: =IF($A15="","",_xll.ciqfunctions.udf.CIQ($A15,"IQ_RECURRING_EARN_ASSETS_SCORE",$B$3)) -> 1 | H15: =IF($A15="","",_xll.ciqfunctions.udf.CIQ($A15,"IQ_NET_WORKING_CAP_REV_SCORE",$B$3)) -> 1 | I15: =IF($A15="","",_xll.ciqfunctions.udf.CIQ($A15,"IQ_ASSET_TURNS_SCORE",$B$3)) -> 3 | J15: =IF($A15="","",_xll.ciqfunctions.udf.CIQ($A15,"IQ_INTAN_ASSETS_REV_SCORE",$B$3)) -> 3 | K15: =IF($A15="","",_xll.ciqfunctions.udf.CIQ($A15,"IQ_NET_WORKING_CAP_TOTAL_ASSETS_SCORE",$B$3)) -> 1 | L15: =IF($A15="","",_xll.ciqfunctions.udf.CIQ($A15,"IQ_AP_AR_SCORE",$B$3)) -> 4 | M15: =IF($A15="","",_xll.ciqfunctions.udf.CIQ($A15,"IQ_MGMT_RATE_RETURN_SCORE",$B$3)) -> 3 | N15: =IF($A15="","",_xll.ciqfunctions.udf.CIQ($A15,"IQ_GROSS_MARGIN_SCORE",$B$3)) -> 2 | O15: =IF($A15="","",_xll.ciqfunctions.udf.CIQ($A15,"IQ_EBITDA_MARGIN_SCORE",$B$3)) -> 1 | Q15: =IF($A15="","",_xll.ciqfunctions.udf.CIQ($A15,"IQ_SOLVENCY_SCORE",$B$3)) -> 1 | R15: =IF($A15="","",_xll.ciqfunctions.udf.CIQ($A15,"IQ_FFO_INT_SCORE",$B$3)) -> 1 | S15: =IF($A15="","",_xll.ciqfunctions.udf.CIQ($A15,"IQ_EBITDA_INT_SCORE",$B$3)) -> 1 | T15: =IF($A15="","",_xll.ciqfunctions.udf.CIQ($A15,"IQ_FFO_TOTAL_DEBT_SCORE",$B$3)) -> 2 | U15: =IF($A15="","",_xll.ciqfunctions.udf.CIQ($A15,"IQ_NET_DEBT_EBITDA_SCORE",$B$3)) -> 0 | V15: =IF($A15="","",_xll.ciqfunctions.udf.CIQ($A15,"IQ_TOTAL_DEBT_CAP_SCORE",$B$3)) -> 1 | W15: =IF($A15="","",_xll.ciqfunctions.udf.CIQ($A15,"IQ_DEBT_TOTAL_LIAB_SCORE",$B$3)) -> 4 | X15: =IF($A15="","",_xll.ciqfunctions.udf.CIQ($A15,"IQ_TOTAL_DEBT_TOTAL_REV_SCORE",$B$3)) -> 1 | Z15: =IF($A15="","",_xll.ciqfunctions.udf.CIQ($A15,"IQ_LIQUID_SCORE",$B$3)) -> 2 | AA15: =IF($A15="","",_xll.ciqfunctions.udf.CIQ($A15,"IQ_FFO_PLUS_CASH_ST_DEBT_SCORE",$B$3)) -> 1 | AB15: =IF($A15="","",_xll.ciqfunctions.udf.CIQ($A15,"IQ_FFO_GROSS_PROFIT_SCORE",$B$3)) -> 2 | AC15: =IF($A15="","",_xll.ciqfunctions.udf.CIQ($A15,"IQ_BASIC_DEFENSE_INTERVAL_SCORE",$B$3)) -> 4 | AD15: =IF($A15="","",_xll.ciqfunctions.udf.CIQ($A15,"IQ_CURRENT_RATIO_SCORE",$B$3)) -> 1 | AE15: =IF($A15="","",_xll.ciqfunctions.udf.CIQ($A15,"IQ_QUICK_RATIO_SCORE",$B$3)) -> 1
A16: LSE:CCC | B16: Computacenter plc | C16: =IF($A16="","",_xll.ciqfunctions.udf.CIQ($A16,"IQ_OPERATIONAL_SCORE",$B$3)) -> 3 | D16: =IF($A16="","",_xll.ciqfunctions.udf.CIQ($A16,"IQ_TOTAL_REV_SCORE",$B$3)) -> 4 | E16: =IF($A16="","",_xll.ciqfunctions.udf.CIQ($A16,"IQ_TOTAL_EQUITY_SCORE",$B$3)) -> 4 | F16: =IF($A16="","",_xll.ciqfunctions.udf.CIQ($A16,"IQ_RETURN_CAPITAL_SCORE",$B$3)) -> 2 | G16: =IF($A16="","",_xll.ciqfunctions.udf.CIQ($A16,"IQ_RECURRING_EARN_ASSETS_SCORE",$B$3)) -> 4 | H16: =IF($A16="","",_xll.ciqfunctions.udf.CIQ($A16,"IQ_NET_WORKING_CAP_REV_SCORE",$B$3)) -> 3 | I16: =IF($A16="","",_xll.ciqfunctions.udf.CIQ($A16,"IQ_ASSET_TURNS_SCORE",$B$3)) -> 1 | J16: =IF($A16="","",_xll.ciqfunctions.udf.CIQ($A16,"IQ_INTAN_ASSETS_REV_SCORE",$B$3)) -> 1 | K16: =IF($A16="","",_xll.ciqfunctions.udf.CIQ($A16,"IQ_NET_WORKING_CAP_TOTAL_ASSETS_SCORE",$B$3)) -> 2 | L16: =IF($A16="","",_xll.ciqfunctions.udf.CIQ($A16,"IQ_AP_AR_SCORE",$B$3)) -> 1 | M16: =IF($A16="","",_xll.ciqfunctions.udf.CIQ($A16,"IQ_MGMT_RATE_RETURN_SCORE",$B$3)) -> 3 | N16: =IF($A16="","",_xll.ciqfunctions.udf.CIQ($A16,"IQ_GROSS_MARGIN_SCORE",$B$3)) -> 4 | O16: =IF($A16="","",_xll.ciqfunctions.udf.CIQ($A16,"IQ_EBITDA_MARGIN_SCORE",$B$3)) -> 4 | Q16: =IF($A16="","",_xll.ciqfunctions.udf.CIQ($A16,"IQ_SOLVENCY_SCORE",$B$3)) -> 3 | R16: =IF($A16="","",_xll.ciqfunctions.udf.CIQ($A16,"IQ_FFO_INT_SCORE",$B$3)) -> 3 | S16: =IF($A16="","",_xll.ciqfunctions.udf.CIQ($A16,"IQ_EBITDA_INT_SCORE",$B$3)) -> 3 | T16: =IF($A16="","",_xll.ciqfunctions.udf.CIQ($A16,"IQ_FFO_TOTAL_DEBT_SCORE",$B$3)) -> 3 | U16: =IF($A16="","",_xll.ciqfunctions.udf.CIQ($A16,"IQ_NET_DEBT_EBITDA_SCORE",$B$3)) -> 0 | V16: =IF($A16="","",_xll.ciqfunctions.udf.CIQ($A16,"IQ_TOTAL_DEBT_CAP_SCORE",$B$3)) -> 1 | W16: =IF($A16="","",_xll.ciqfunctions.udf.CIQ($A16,"IQ_DEBT_TOTAL_LIAB_SCORE",$B$3)) -> 4 | X16: =IF($A16="","",_xll.ciqfunctions.udf.CIQ($A16,"IQ_TOTAL_DEBT_TOTAL_REV_SCORE",$B$3)) -> 1 | Z16: =IF($A16="","",_xll.ciqfunctions.udf.CIQ($A16,"IQ_LIQUID_SCORE",$B$3)) -> 4 | AA16: =IF($A16="","",_xll.ciqfunctions.udf.CIQ($A16,"IQ_FFO_PLUS_CASH_ST_DEBT_SCORE",$B$3)) -> 3 | AB16: =IF($A16="","",_xll.ciqfunctions.udf.CIQ($A16,"IQ_FFO_GROSS_PROFIT_SCORE",$B$3)) -> 4 | AC16: =IF($A16="","",_xll.ciqfunctions.udf.CIQ($A16,"IQ_BASIC_DEFENSE_INTERVAL_SCORE",$B$3)) -> 4 | AD16: =IF($A16="","",_xll.ciqfunctions.udf.CIQ($A16,"IQ_CURRENT_RATIO_SCORE",$B$3)) -> 4 | AE16: =IF($A16="","",_xll.ciqfunctions.udf.CIQ($A16,"IQ_QUICK_RATIO_SCORE",$B$3)) -> 3
A17: NYSE:DXC | B17: DXC Technology Company | C17: =IF($A17="","",_xll.ciqfunctions.udf.CIQ($A17,"IQ_OPERATIONAL_SCORE",$B$3)) -> 4 | D17: =IF($A17="","",_xll.ciqfunctions.udf.CIQ($A17,"IQ_TOTAL_REV_SCORE",$B$3)) -> 4 | E17: =IF($A17="","",_xll.ciqfunctions.udf.CIQ($A17,"IQ_TOTAL_EQUITY_SCORE",$B$3)) -> 4 | F17: =IF($A17="","",_xll.ciqfunctions.udf.CIQ($A17,"IQ_RETURN_CAPITAL_SCORE",$B$3)) -> 4 | G17: =IF($A17="","",_xll.ciqfunctions.udf.CIQ($A17,"IQ_RECURRING_EARN_ASSETS_SCORE",$B$3)) -> 4 | H17: =IF($A17="","",_xll.ciqfunctions.udf.CIQ($A17,"IQ_NET_WORKING_CAP_REV_SCORE",$B$3)) -> 2 | I17: =IF($A17="","",_xll.ciqfunctions.udf.CIQ($A17,"IQ_ASSET_TURNS_SCORE",$B$3)) -> 3 | J17: =IF($A17="","",_xll.ciqfunctions.udf.CIQ($A17,"IQ_INTAN_ASSETS_REV_SCORE",$B$3)) -> 2 | K17: =IF($A17="","",_xll.ciqfunctions.udf.CIQ($A17,"IQ_NET_WORKING_CAP_TOTAL_ASSETS_SCORE",$B$3)) -> 3 | L17: =IF($A17="","",_xll.ciqfunctions.udf.CIQ($A17,"IQ_AP_AR_SCORE",$B$3)) -> 4 | M17: =IF($A17="","",_xll.ciqfunctions.udf.CIQ($A17,"IQ_MGMT_RATE_RETURN_SCORE",$B$3)) -> 3 | N17: =IF($A17="","",_xll.ciqfunctions.udf.CIQ($A17,"IQ_GROSS_MARGIN_SCORE",$B$3)) -> 3 | O17: =IF($A17="","",_xll.ciqfunctions.udf.CIQ($A17,"IQ_EBITDA_MARGIN_SCORE",$B$3)) -> 2 | Q17: =IF($A17="","",_xll.ciqfunctions.udf.CIQ($A17,"IQ_SOLVENCY_SCORE",$B$3)) -> 4 | R17: =IF($A17="","",_xll.ciqfunctions.udf.CIQ($A17,"IQ_FFO_INT_SCORE",$B$3)) -> 4 | S17: =IF($A17="","",_xll.ciqfunctions.udf.CIQ($A17,"IQ_EBITDA_INT_SCORE",$B$3)) -> 4 | T17: =IF($A17="","",_xll.ciqfunctions.udf.CIQ($A17,"IQ_FFO_TOTAL_DEBT_SCORE",$B$3)) -> 4 | U17: =IF($A17="","",_xll.ciqfunctions.udf.CIQ($A17,"IQ_NET_DEBT_EBITDA_SCORE",$B$3)) -> 2 | V17: =IF($A17="","",_xll.ciqfunctions.udf.CIQ($A17,"IQ_TOTAL_DEBT_CAP_SCORE",$B$3)) -> 4 | W17: =IF($A17="","",_xll.ciqfunctions.udf.CIQ($A17,"IQ_DEBT_TOTAL_LIAB_SCORE",$B$3)) -> 1 | X17: =IF($A17="","",_xll.ciqfunctions.udf.CIQ($A17,"IQ_TOTAL_DEBT_TOTAL_REV_SCORE",$B$3)) -> 4 | Z17: =IF($A17="","",_xll.ciqfunctions.udf.CIQ($A17,"IQ_LIQUID_SCORE",$B$3)) -> 3 | AA17: =IF($A17="","",_xll.ciqfunctions.udf.CIQ($A17,"IQ_FFO_PLUS_CASH_ST_DEBT_SCORE",$B$3)) -> 4 | AB17: =IF($A17="","",_xll.ciqfunctions.udf.CIQ($A17,"IQ_FFO_GROSS_PROFIT_SCORE",$B$3)) -> 2 | AC17: =IF($A17="","",_xll.ciqfunctions.udf.CIQ($A17,"IQ_BASIC_DEFENSE_INTERVAL_SCORE",$B$3)) -> 3 | AD17: =IF($A17="","",_xll.ciqfunctions.udf.CIQ($A17,"IQ_CURRENT_RATIO_SCORE",$B$3)) -> 4 | AE17: =IF($A17="","",_xll.ciqfunctions.udf.CIQ($A17,"IQ_QUICK_RATIO_SCORE",$B$3)) -> 4
A18: TSE:6702 | B18: Fujitsu Limited | C18: =IF($A18="","",_xll.ciqfunctions.udf.CIQ($A18,"IQ_OPERATIONAL_SCORE",$B$3)) -> 2 | D18: =IF($A18="","",_xll.ciqfunctions.udf.CIQ($A18,"IQ_TOTAL_REV_SCORE",$B$3)) -> 2 | E18: =IF($A18="","",_xll.ciqfunctions.udf.CIQ($A18,"IQ_TOTAL_EQUITY_SCORE",$B$3)) -> 2 | F18: =IF($A18="","",_xll.ciqfunctions.udf.CIQ($A18,"IQ_RETURN_CAPITAL_SCORE",$B$3)) -> 3 | G18: =IF($A18="","",_xll.ciqfunctions.udf.CIQ($A18,"IQ_RECURRING_EARN_ASSETS_SCORE",$B$3)) -> 3 | H18: =IF($A18="","",_xll.ciqfunctions.udf.CIQ($A18,"IQ_NET_WORKING_CAP_REV_SCORE",$B$3)) -> 1 | I18: =IF($A18="","",_xll.ciqfunctions.udf.CIQ($A18,"IQ_ASSET_TURNS_SCORE",$B$3)) -> 3 | J18: =IF($A18="","",_xll.ciqfunctions.udf.CIQ($A18,"IQ_INTAN_ASSETS_REV_SCORE",$B$3)) -> 1 | K18: =IF($A18="","",_xll.ciqfunctions.udf.CIQ($A18,"IQ_NET_WORKING_CAP_TOTAL_ASSETS_SCORE",$B$3)) -> 1 | L18: =IF($A18="","",_xll.ciqfunctions.udf.CIQ($A18,"IQ_AP_AR_SCORE",$B$3)) -> 2 | M18: =IF($A18="","",_xll.ciqfunctions.udf.CIQ($A18,"IQ_MGMT_RATE_RETURN_SCORE",$B$3)) -> 3 | N18: =IF($A18="","",_xll.ciqfunctions.udf.CIQ($A18,"IQ_GROSS_MARGIN_SCORE",$B$3)) -> 2 | O18: =IF($A18="","",_xll.ciqfunctions.udf.CIQ($A18,"IQ_EBITDA_MARGIN_SCORE",$B$3)) -> 3 | Q18: =IF($A18="","",_xll.ciqfunctions.udf.CIQ($A18,"IQ_SOLVENCY_SCORE",$B$3)) -> 1 | R18: =IF($A18="","",_xll.ciqfunctions.udf.CIQ($A18,"IQ_FFO_INT_SCORE",$B$3)) -> 1 | S18: =IF($A18="","",_xll.ciqfunctions.udf.CIQ($A18,"IQ_EBITDA_INT_SCORE",$B$3)) -> 1 | T18: =IF($A18="","",_xll.ciqfunctions.udf.CIQ($A18,"IQ_FFO_TOTAL_DEBT_SCORE",$B$3)) -> 3 | U18: =IF($A18="","",_xll.ciqfunctions.udf.CIQ($A18,"IQ_NET_DEBT_EBITDA_SCORE",$B$3)) -> 0 | V18: =IF($A18="","",_xll.ciqfunctions.udf.CIQ($A18,"IQ_TOTAL_DEBT_CAP_SCORE",$B$3)) -> 1 | W18: =IF($A18="","",_xll.ciqfunctions.udf.CIQ($A18,"IQ_DEBT_TOTAL_LIAB_SCORE",$B$3)) -> 4 | X18: =IF($A18="","",_xll.ciqfunctions.udf.CIQ($A18,"IQ_TOTAL_DEBT_TOTAL_REV_SCORE",$B$3)) -> 1 | Z18: =IF($A18="","",_xll.ciqfunctions.udf.CIQ($A18,"IQ_LIQUID_SCORE",$B$3)) -> 2 | AA18: =IF($A18="","",_xll.ciqfunctions.udf.CIQ($A18,"IQ_FFO_PLUS_CASH_ST_DEBT_SCORE",$B$3)) -> 3 | AB18: =IF($A18="","",_xll.ciqfunctions.udf.CIQ($A18,"IQ_FFO_GROSS_PROFIT_SCORE",$B$3)) -> 4 | AC18: =IF($A18="","",_xll.ciqfunctions.udf.CIQ($A18,"IQ_BASIC_DEFENSE_INTERVAL_SCORE",$B$3)) -> 3 | AD18: =IF($A18="","",_xll.ciqfunctions.udf.CIQ($A18,"IQ_CURRENT_RATIO_SCORE",$B$3)) -> 2 | AE18: =IF($A18="","",_xll.ciqfunctions.udf.CIQ($A18,"IQ_QUICK_RATIO_SCORE",$B$3)) -> 3
A19: NYSE:IT | B19: Gartner, Inc. | C19: =IF($A19="","",_xll.ciqfunctions.udf.CIQ($A19,"IQ_OPERATIONAL_SCORE",$B$3)) -> 3 | D19: =IF($A19="","",_xll.ciqfunctions.udf.CIQ($A19,"IQ_TOTAL_REV_SCORE",$B$3)) -> 4 | E19: =IF($A19="","",_xll.ciqfunctions.udf.CIQ($A19,"IQ_TOTAL_EQUITY_SCORE",$B$3)) -> 4 | F19: =IF($A19="","",_xll.ciqfunctions.udf.CIQ($A19,"IQ_RETURN_CAPITAL_SCORE",$B$3)) -> 1 | G19: =IF($A19="","",_xll.ciqfunctions.udf.CIQ($A19,"IQ_RECURRING_EARN_ASSETS_SCORE",$B$3)) -> 1 | H19: =IF($A19="","",_xll.ciqfunctions.udf.CIQ($A19,"IQ_NET_WORKING_CAP_REV_SCORE",$B$3)) -> 4 | I19: =IF($A19="","",_xll.ciqfunctions.udf.CIQ($A19,"IQ_ASSET_TURNS_SCORE",$B$3)) -> 3 | J19: =IF($A19="","",_xll.ciqfunctions.udf.CIQ($A19,"IQ_INTAN_ASSETS_REV_SCORE",$B$3)) -> 4 | K19: =IF($A19="","",_xll.ciqfunctions.udf.CIQ($A19,"IQ_NET_WORKING_CAP_TOTAL_ASSETS_SCORE",$B$3)) -> 4 | L19: =IF($A19="","",_xll.ciqfunctions.udf.CIQ($A19,"IQ_AP_AR_SCORE",$B$3)) -> 2 | M19: =IF($A19="","",_xll.ciqfunctions.udf.CIQ($A19,"IQ_MGMT_RATE_RETURN_SCORE",$B$3)) -> 0 | N19: =IF($A19="","",_xll.ciqfunctions.udf.CIQ($A19,"IQ_GROSS_MARGIN_SCORE",$B$3)) -> 1 | O19: =IF($A19="","",_xll.ciqfunctions.udf.CIQ($A19,"IQ_EBITDA_MARGIN_SCORE",$B$3)) -> 1 | Q19: =IF($A19="","",_xll.ciqfunctions.udf.CIQ($A19,"IQ_SOLVENCY_SCORE",$B$3)) -> 4 | R19: =IF($A19="","",_xll.ciqfunctions.udf.CIQ($A19,"IQ_FFO_INT_SCORE",$B$3)) -> 4 | S19: =IF($A19="","",_xll.ciqfunctions.udf.CIQ($A19,"IQ_EBITDA_INT_SCORE",$B$3)) -> 4 | T19: =IF($A19="","",_xll.ciqfunctions.udf.CIQ($A19,"IQ_FFO_TOTAL_DEBT_SCORE",$B$3)) -> 4 | U19: =IF($A19="","",_xll.ciqfunctions.udf.CIQ($A19,"IQ_NET_DEBT_EBITDA_SCORE",$B$3)) -> 1 | V19: =IF($A19="","",_xll.ciqfunctions.udf.CIQ($A19,"IQ_TOTAL_DEBT_CAP_SCORE",$B$3)) -> 4 | W19: =IF($A19="","",_xll.ciqfunctions.udf.CIQ($A19,"IQ_DEBT_TOTAL_LIAB_SCORE",$B$3)) -> 1 | X19: =IF($A19="","",_xll.ciqfunctions.udf.CIQ($A19,"IQ_TOTAL_DEBT_TOTAL_REV_SCORE",$B$3)) -> 4 | Z19: =IF($A19="","",_xll.ciqfunctions.udf.CIQ($A19,"IQ_LIQUID_SCORE",$B$3)) -> 2 | AA19: =IF($A19="","",_xll.ciqfunctions.udf.CIQ($A19,"IQ_FFO_PLUS_CASH_ST_DEBT_SCORE",$B$3)) -> 1 | AB19: =IF($A19="","",_xll.ciqfunctions.udf.CIQ($A19,"IQ_FFO_GROSS_PROFIT_SCORE",$B$3)) -> 4 | AC19: =IF($A19="","",_xll.ciqfunctions.udf.CIQ($A19,"IQ_BASIC_DEFENSE_INTERVAL_SCORE",$B$3)) -> 2 | AD19: =IF($A19="","",_xll.ciqfunctions.udf.CIQ($A19,"IQ_CURRENT_RATIO_SCORE",$B$3)) -> 4 | AE19: =IF($A19="","",_xll.ciqfunctions.udf.CIQ($A19,"IQ_QUICK_RATIO_SCORE",$B$3)) -> 4
A20: NSEI:HCLTECH | B20: HCL Technologies Limited | C20: =IF($A20="","",_xll.ciqfunctions.udf.CIQ($A20,"IQ_OPERATIONAL_SCORE",$B$3)) -> 1 | D20: =IF($A20="","",_xll.ciqfunctions.udf.CIQ($A20,"IQ_TOTAL_REV_SCORE",$B$3)) -> 3 | E20: =IF($A20="","",_xll.ciqfunctions.udf.CIQ($A20,"IQ_TOTAL_EQUITY_SCORE",$B$3)) -> 3 | F20: =IF($A20="","",_xll.ciqfunctions.udf.CIQ($A20,"IQ_RETURN_CAPITAL_SCORE",$B$3)) -> 1 | G20: =IF($A20="","",_xll.ciqfunctions.udf.CIQ($A20,"IQ_RECURRING_EARN_ASSETS_SCORE",$B$3)) -> 1 | H20: =IF($A20="","",_xll.ciqfunctions.udf.CIQ($A20,"IQ_NET_WORKING_CAP_REV_SCORE",$B$3)) -> 1 | I20: =IF($A20="","",_xll.ciqfunctions.udf.CIQ($A20,"IQ_ASSET_TURNS_SCORE",$B$3)) -> 2 | J20: =IF($A20="","",_xll.ciqfunctions.udf.CIQ($A20,"IQ_INTAN_ASSETS_REV_SCORE",$B$3)) -> 2 | K20: =IF($A20="","",_xll.ciqfunctions.udf.CIQ($A20,"IQ_NET_WORKING_CAP_TOTAL_ASSETS_SCORE",$B$3)) -> 1 | L20: =IF($A20="","",_xll.ciqfunctions.udf.CIQ($A20,"IQ_AP_AR_SCORE",$B$3)) -> 4 | M20: =IF($A20="","",_xll.ciqfunctions.udf.CIQ($A20,"IQ_MGMT_RATE_RETURN_SCORE",$B$3)) -> 3 | N20: =IF($A20="","",_xll.ciqfunctions.udf.CIQ($A20,"IQ_GROSS_MARGIN_SCORE",$B$3)) -> 2 | O20: =IF($A20="","",_xll.ciqfunctions.udf.CIQ($A20,"IQ_EBITDA_MARGIN_SCORE",$B$3)) -> 1 | Q20: =IF($A20="","",_xll.ciqfunctions.udf.CIQ($A20,"IQ_SOLVENCY_SCORE",$B$3)) -> 2 | R20: =IF($A20="","",_xll.ciqfunctions.udf.CIQ($A20,"IQ_FFO_INT_SCORE",$B$3)) -> 2 | S20: =IF($A20="","",_xll.ciqfunctions.udf.CIQ($A20,"IQ_EBITDA_INT_SCORE",$B$3)) -> 3 | T20: =IF($A20="","",_xll.ciqfunctions.udf.CIQ($A20,"IQ_FFO_TOTAL_DEBT_SCORE",$B$3)) -> 1 | U20: =IF($A20="","",_xll.ciqfunctions.udf.CIQ($A20,"IQ_NET_DEBT_EBITDA_SCORE",$B$3)) -> 0 | V20: =IF($A20="","",_xll.ciqfunctions.udf.CIQ($A20,"IQ_TOTAL_DEBT_CAP_SCORE",$B$3)) -> 1 | W20: =IF($A20="","",_xll.ciqfunctions.udf.CIQ($A20,"IQ_DEBT_TOTAL_LIAB_SCORE",$B$3)) -> 4 | X20: =IF($A20="","",_xll.ciqfunctions.udf.CIQ($A20,"IQ_TOTAL_DEBT_TOTAL_REV_SCORE",$B$3)) -> 1 | Z20: =IF($A20="","",_xll.ciqfunctions.udf.CIQ($A20,"IQ_LIQUID_SCORE",$B$3)) -> 1 | AA20: =IF($A20="","",_xll.ciqfunctions.udf.CIQ($A20,"IQ_FFO_PLUS_CASH_ST_DEBT_SCORE",$B$3)) -> 3 | AB20: =IF($A20="","",_xll.ciqfunctions.udf.CIQ($A20,"IQ_FFO_GROSS_PROFIT_SCORE",$B$3)) -> 1 | AC20: =IF($A20="","",_xll.ciqfunctions.udf.CIQ($A20,"IQ_BASIC_DEFENSE_INTERVAL_SCORE",$B$3)) -> 1 | AD20: =IF($A20="","",_xll.ciqfunctions.udf.CIQ($A20,"IQ_CURRENT_RATIO_SCORE",$B$3)) -> 1 | AE20: =IF($A20="","",_xll.ciqfunctions.udf.CIQ($A20,"IQ_QUICK_RATIO_SCORE",$B$3)) -> 1
A21: NSEI:INFY | B21: Infosys Limited | C21: =IF($A21="","",_xll.ciqfunctions.udf.CIQ($A21,"IQ_OPERATIONAL_SCORE",$B$3)) -> 1 | D21: =IF($A21="","",_xll.ciqfunctions.udf.CIQ($A21,"IQ_TOTAL_REV_SCORE",$B$3)) -> 3 | E21: =IF($A21="","",_xll.ciqfunctions.udf.CIQ($A21,"IQ_TOTAL_EQUITY_SCORE",$B$3)) -> 2 | F21: =IF($A21="","",_xll.ciqfunctions.udf.CIQ($A21,"IQ_RETURN_CAPITAL_SCORE",$B$3)) -> 1 | G21: =IF($A21="","",_xll.ciqfunctions.udf.CIQ($A21,"IQ_RECURRING_EARN_ASSETS_SCORE",$B$3)) -> 1 | H21: =IF($A21="","",_xll.ciqfunctions.udf.CIQ($A21,"IQ_NET_WORKING_CAP_REV_SCORE",$B$3)) -> 1 | I21: =IF($A21="","",_xll.ciqfunctions.udf.CIQ($A21,"IQ_ASSET_TURNS_SCORE",$B$3)) -> 3 | J21: =IF($A21="","",_xll.ciqfunctions.udf.CIQ($A21,"IQ_INTAN_ASSETS_REV_SCORE",$B$3)) -> 1 | K21: =IF($A21="","",_xll.ciqfunctions.udf.CIQ($A21,"IQ_NET_WORKING_CAP_TOTAL_ASSETS_SCORE",$B$3)) -> 1 | L21: =IF($A21="","",_xll.ciqfunctions.udf.CIQ($A21,"IQ_AP_AR_SCORE",$B$3)) -> 4 | M21: =IF($A21="","",_xll.ciqfunctions.udf.CIQ($A21,"IQ_MGMT_RATE_RETURN_SCORE",$B$3)) -> 3 | N21: =IF($A21="","",_xll.ciqfunctions.udf.CIQ($A21,"IQ_GROSS_MARGIN_SCORE",$B$3)) -> 2 | O21: =IF($A21="","",_xll.ciqfunctions.udf.CIQ($A21,"IQ_EBITDA_MARGIN_SCORE",$B$3)) -> 1 | Q21: =IF($A21="","",_xll.ciqfunctions.udf.CIQ($A21,"IQ_SOLVENCY_SCORE",$B$3)) -> 1 | R21: =IF($A21="","",_xll.ciqfunctions.udf.CIQ($A21,"IQ_FFO_INT_SCORE",$B$3)) -> 1 | S21: =IF($A21="","",_xll.ciqfunctions.udf.CIQ($A21,"IQ_EBITDA_INT_SCORE",$B$3)) -> 1 | T21: =IF($A21="","",_xll.ciqfunctions.udf.CIQ($A21,"IQ_FFO_TOTAL_DEBT_SCORE",$B$3)) -> 1 | U21: =IF($A21="","",_xll.ciqfunctions.udf.CIQ($A21,"IQ_NET_DEBT_EBITDA_SCORE",$B$3)) -> 0 | V21: =IF($A21="","",_xll.ciqfunctions.udf.CIQ($A21,"IQ_TOTAL_DEBT_CAP_SCORE",$B$3)) -> 1 | W21: =IF($A21="","",_xll.ciqfunctions.udf.CIQ($A21,"IQ_DEBT_TOTAL_LIAB_SCORE",$B$3)) -> 4 | X21: =IF($A21="","",_xll.ciqfunctions.udf.CIQ($A21,"IQ_TOTAL_DEBT_TOTAL_REV_SCORE",$B$3)) -> 1 | Z21: =IF($A21="","",_xll.ciqfunctions.udf.CIQ($A21,"IQ_LIQUID_SCORE",$B$3)) -> 1 | AA21: =IF($A21="","",_xll.ciqfunctions.udf.CIQ($A21,"IQ_FFO_PLUS_CASH_ST_DEBT_SCORE",$B$3)) -> 1 | AB21: =IF($A21="","",_xll.ciqfunctions.udf.CIQ($A21,"IQ_FFO_GROSS_PROFIT_SCORE",$B$3)) -> 1 | AC21: =IF($A21="","",_xll.ciqfunctions.udf.CIQ($A21,"IQ_BASIC_DEFENSE_INTERVAL_SCORE",$B$3)) -> 1 | AD21: =IF($A21="","",_xll.ciqfunctions.udf.CIQ($A21,"IQ_CURRENT_RATIO_SCORE",$B$3)) -> 1 | AE21: =IF($A21="","",_xll.ciqfunctions.udf.CIQ($A21,"IQ_QUICK_RATIO_SCORE",$B$3)) -> 1
... A31: BSE:507685 | B31: Wipro Limited | C31: =IF($A31="","",_xll.ciqfunctions.udf.CIQ($A31,"IQ_OPERATIONAL_SCORE",$B$3)) -> 3 | D31: =IF($A31="","",_xll.ciqfunctions.udf.CIQ($A31,"IQ_TOTAL_REV_SCORE",$B$3)) -> 4 | E31: =IF($A31="","",_xll.ciqfunctions.udf.CIQ($A31,"IQ_TOTAL_EQUITY_SCORE",$B$3)) -> 3 | F31: =IF($A31="","",_xll.ciqfunctions.udf.CIQ($A31,"IQ_RETURN_CAPITAL_SCORE",$B$3)) -> 3 | G31: =IF($A31="","",_xll.ciqfunctions.udf.CIQ($A31,"IQ_RECURRING_EARN_ASSETS_SCORE",$B$3)) -> 3 | H31: =IF($A31="","",_xll.ciqfunctions.udf.CIQ($A31,"IQ_NET_WORKING_CAP_REV_SCORE",$B$3)) -> 2 | I31: =IF($A31="","",_xll.ciqfunctions.udf.CIQ($A31,"IQ_ASSET_TURNS_SCORE",$B$3)) -> 4 | J31: =IF($A31="","",_xll.ciqfunctions.udf.CIQ($A31,"IQ_INTAN_ASSETS_REV_SCORE",$B$3)) -> 3 | K31: =IF($A31="","",_xll.ciqfunctions.udf.CIQ($A31,"IQ_NET_WORKING_CAP_TOTAL_ASSETS_SCORE",$B$3)) -> 2 | L31: =IF($A31="","",_xll.ciqfunctions.udf.CIQ($A31,"IQ_AP_AR_SCORE",$B$3)) -> 4 | M31: =IF($A31="","",_xll.ciqfunctions.udf.CIQ($A31,"IQ_MGMT_RATE_RETURN_SCORE",$B$3)) -> 3 | N31: =IF($A31="","",_xll.ciqfunctions.udf.CIQ($A31,"IQ_GROSS_MARGIN_SCORE",$B$3)) -> 2 | O31: =IF($A31="","",_xll.ciqfunctions.udf.CIQ($A31,"IQ_EBITDA_MARGIN_SCORE",$B$3)) -> 1 | Q31: =IF($A31="","",_xll.ciqfunctions.udf.CIQ($A31,"IQ_SOLVENCY_SCORE",$B$3)) -> 3 | R31: =IF($A31="","",_xll.ciqfunctions.udf.CIQ($A31,"IQ_FFO_INT_SCORE",$B$3)) -> 3 | S31: =IF($A31="","",_xll.ciqfunctions.udf.CIQ($A31,"IQ_EBITDA_INT_SCORE",$B$3)) -> 3 | T31: =IF($A31="","",_xll.ciqfunctions.udf.CIQ($A31,"IQ_FFO_TOTAL_DEBT_SCORE",$B$3)) -> 3 | U31: =IF($A31="","",_xll.ciqfunctions.udf.CIQ($A31,"IQ_NET_DEBT_EBITDA_SCORE",$B$3)) -> 0 | V31: =IF($A31="","",_xll.ciqfunctions.udf.CIQ($A31,"IQ_TOTAL_DEBT_CAP_SCORE",$B$3)) -> 1 | W31: =IF($A31="","",_xll.ciqfunctions.udf.CIQ($A31,"IQ_DEBT_TOTAL_LIAB_SCORE",$B$3)) -> 2 | X31: =IF($A31="","",_xll.ciqfunctions.udf.CIQ($A31,"IQ_TOTAL_DEBT_TOTAL_REV_SCORE",$B$3)) -> 2 | Z31: =IF($A31="","",_xll.ciqfunctions.udf.CIQ($A31,"IQ_LIQUID_SCORE",$B$3)) -> 1 | AA31: =IF($A31="","",_xll.ciqfunctions.udf.CIQ($A31,"IQ_FFO_PLUS_CASH_ST_DEBT_SCORE",$B$3)) -> 4 | AB31: =IF($A31="","",_xll.ciqfunctions.udf.CIQ($A31,"IQ_FFO_GROSS_PROFIT_SCORE",$B$3)) -> 1 | AC31: =IF($A31="","",_xll.ciqfunctions.udf.CIQ($A31,"IQ_BASIC_DEFENSE_INTERVAL_SCORE",$B$3)) -> 1 | AD31: =IF($A31="","",_xll.ciqfunctions.udf.CIQ($A31,"IQ_CURRENT_RATIO_SCORE",$B$3)) -> 1 | AE31: =IF($A31="","",_xll.ciqfunctions.udf.CIQ($A31,"IQ_QUICK_RATIO_SCORE",$B$3)) -> 1
C32: =IF($A32="","",_xll.ciqfunctions.udf.CIQ($A32,"IQ_OPERATIONAL_SCORE",$B$3)) | D32: =IF($A32="","",_xll.ciqfunctions.udf.CIQ($A32,"IQ_TOTAL_REV_SCORE",$B$3)) | E32: =IF($A32="","",_xll.ciqfunctions.udf.CIQ($A32,"IQ_TOTAL_EQUITY_SCORE",$B$3)) | F32: =IF($A32="","",_xll.ciqfunctions.udf.CIQ($A32,"IQ_RETURN_CAPITAL_SCORE",$B$3)) | G32: =IF($A32="","",_xll.ciqfunctions.udf.CIQ($A32,"IQ_RECURRING_EARN_ASSETS_SCORE",$B$3)) | H32: =IF($A32="","",_xll.ciqfunctions.udf.CIQ($A32,"IQ_NET_WORKING_CAP_REV_SCORE",$B$3)) | I32: =IF($A32="","",_xll.ciqfunctions.udf.CIQ($A32,"IQ_ASSET_TURNS_SCORE",$B$3)) | J32: =IF($A32="","",_xll.ciqfunctions.udf.CIQ($A32,"IQ_INTAN_ASSETS_REV_SCORE",$B$3)) | K32: =IF($A32="","",_xll.ciqfunctions.udf.CIQ($A32,"IQ_NET_WORKING_CAP_TOTAL_ASSETS_SCORE",$B$3)) | L32: =IF($A32="","",_xll.ciqfunctions.udf.CIQ($A32,"IQ_AP_AR_SCORE",$B$3)) | M32: =IF($A32="","",_xll.ciqfunctions.udf.CIQ($A32,"IQ_MGMT_RATE_RETURN_SCORE",$B$3)) | N32: =IF($A32="","",_xll.ciqfunctions.udf.CIQ($A32,"IQ_GROSS_MARGIN_SCORE",$B$3)) | O32: =IF($A32="","",_xll.ciqfunctions.udf.CIQ($A32,"IQ_EBITDA_MARGIN_SCORE",$B$3)) | Q32: =IF($A32="","",_xll.ciqfunctions.udf.CIQ($A32,"IQ_SOLVENCY_SCORE",$B$3)) | R32: =IF($A32="","",_xll.ciqfunctions.udf.CIQ($A32,"IQ_FFO_INT_SCORE",$B$3)) | S32: =IF($A32="","",_xll.ciqfunctions.udf.CIQ($A32,"IQ_EBITDA_INT_SCORE",$B$3)) | T32: =IF($A32="","",_xll.ciqfunctions.udf.CIQ($A32,"IQ_FFO_TOTAL_DEBT_SCORE",$B$3)) | U32: =IF($A32="","",_xll.ciqfunctions.udf.CIQ($A32,"IQ_NET_DEBT_EBITDA_SCORE",$B$3)) | V32: =IF($A32="","",_xll.ciqfunctions.udf.CIQ($A32,"IQ_TOTAL_DEBT_CAP_SCORE",$B$3)) | W32: =IF($A32="","",_xll.ciqfunctions.udf.CIQ($A32,"IQ_DEBT_TOTAL_LIAB_SCORE",$B$3)) | X32: =IF($A32="","",_xll.ciqfunctions.udf.CIQ($A32,"IQ_TOTAL_DEBT_TOTAL_REV_SCORE",$B$3)) | Z32: =IF($A32="","",_xll.ciqfunctions.udf.CIQ($A32,"IQ_LIQUID_SCORE",$B$3)) | AA32: =IF($A32="","",_xll.ciqfunctions.udf.CIQ($A32,"IQ_FFO_PLUS_CASH_ST_DEBT_SCORE",$B$3)) | AB32: =IF($A32="","",_xll.ciqfunctions.udf.CIQ($A32,"IQ_FFO_GROSS_PROFIT_SCORE",$B$3)) | AC32: =IF($A32="","",_xll.ciqfunctions.udf.CIQ($A32,"IQ_BASIC_DEFENSE_INTERVAL_SCORE",$B$3)) | AD32: =IF($A32="","",_xll.ciqfunctions.udf.CIQ($A32,"IQ_CURRENT_RATIO_SCORE",$B$3)) | AE32: =IF($A32="","",_xll.ciqfunctions.udf.CIQ($A32,"IQ_QUICK_RATIO_SCORE",$B$3))
C33: =IF($A33="","",_xll.ciqfunctions.udf.CIQ($A33,"IQ_OPERATIONAL_SCORE",$B$3)) | D33: =IF($A33="","",_xll.ciqfunctions.udf.CIQ($A33,"IQ_TOTAL_REV_SCORE",$B$3)) | E33: =IF($A33="","",_xll.ciqfunctions.udf.CIQ($A33,"IQ_TOTAL_EQUITY_SCORE",$B$3)) | F33: =IF($A33="","",_xll.ciqfunctions.udf.CIQ($A33,"IQ_RETURN_CAPITAL_SCORE",$B$3)) | G33: =IF($A33="","",_xll.ciqfunctions.udf.CIQ($A33,"IQ_RECURRING_EARN_ASSETS_SCORE",$B$3)) | H33: =IF($A33="","",_xll.ciqfunctions.udf.CIQ($A33,"IQ_NET_WORKING_CAP_REV_SCORE",$B$3)) | I33: =IF($A33="","",_xll.ciqfunctions.udf.CIQ($A33,"IQ_ASSET_TURNS_SCORE",$B$3)) | J33: =IF($A33="","",_xll.ciqfunctions.udf.CIQ($A33,"IQ_INTAN_ASSETS_REV_SCORE",$B$3)) | K33: =IF($A33="","",_xll.ciqfunctions.udf.CIQ($A33,"IQ_NET_WORKING_CAP_TOTAL_ASSETS_SCORE",$B$3)) | L33: =IF($A33="","",_xll.ciqfunctions.udf.CIQ($A33,"IQ_AP_AR_SCORE",$B$3)) | M33: =IF($A33="","",_xll.ciqfunctions.udf.CIQ($A33,"IQ_MGMT_RATE_RETURN_SCORE",$B$3)) | N33: =IF($A33="","",_xll.ciqfunctions.udf.CIQ($A33,"IQ_GROSS_MARGIN_SCORE",$B$3)) | O33: =IF($A33="","",_xll.ciqfunctions.udf.CIQ($A33,"IQ_EBITDA_MARGIN_SCORE",$B$3)) | Q33: =IF($A33="","",_xll.ciqfunctions.udf.CIQ($A33,"IQ_SOLVENCY_SCORE",$B$3)) | R33: =IF($A33="","",_xll.ciqfunctions.udf.CIQ($A33,"IQ_FFO_INT_SCORE",$B$3)) | S33: =IF($A33="","",_xll.ciqfunctions.udf.CIQ($A33,"IQ_EBITDA_INT_SCORE",$B$3)) | T33: =IF($A33="","",_xll.ciqfunctions.udf.CIQ($A33,"IQ_FFO_TOTAL_DEBT_SCORE",$B$3)) | U33: =IF($A33="","",_xll.ciqfunctions.udf.CIQ($A33,"IQ_NET_DEBT_EBITDA_SCORE",$B$3)) | V33: =IF($A33="","",_xll.ciqfunctions.udf.CIQ($A33,"IQ_TOTAL_DEBT_CAP_SCORE",$B$3)) | W33: =IF($A33="","",_xll.ciqfunctions.udf.CIQ($A33,"IQ_DEBT_TOTAL_LIAB_SCORE",$B$3)) | X33: =IF($A33="","",_xll.ciqfunctions.udf.CIQ($A33,"IQ_TOTAL_DEBT_TOTAL_REV_SCORE",$B$3)) | Z33: =IF($A33="","",_xll.ciqfunctions.udf.CIQ($A33,"IQ_LIQUID_SCORE",$B$3)) | AA33: =IF($A33="","",_xll.ciqfunctions.udf.CIQ($A33,"IQ_FFO_PLUS_CASH_ST_DEBT_SCORE",$B$3)) | AB33: =IF($A33="","",_xll.ciqfunctions.udf.CIQ($A33,"IQ_FFO_GROSS_PROFIT_SCORE",$B$3)) | AC33: =IF($A33="","",_xll.ciqfunctions.udf.CIQ($A33,"IQ_BASIC_DEFENSE_INTERVAL_SCORE",$B$3)) | AD33: =IF($A33="","",_xll.ciqfunctions.udf.CIQ($A33,"IQ_CURRENT_RATIO_SCORE",$B$3)) | AE33: =IF($A33="","",_xll.ciqfunctions.udf.CIQ($A33,"IQ_QUICK_RATIO_SCORE",$B$3))
C34: =IF($A34="","",_xll.ciqfunctions.udf.CIQ($A34,"IQ_OPERATIONAL_SCORE",$B$3)) | D34: =IF($A34="","",_xll.ciqfunctions.udf.CIQ($A34,"IQ_TOTAL_REV_SCORE",$B$3)) | E34: =IF($A34="","",_xll.ciqfunctions.udf.CIQ($A34,"IQ_TOTAL_EQUITY_SCORE",$B$3)) | F34: =IF($A34="","",_xll.ciqfunctions.udf.CIQ($A34,"IQ_RETURN_CAPITAL_SCORE",$B$3)) | G34: =IF($A34="","",_xll.ciqfunctions.udf.CIQ($A34,"IQ_RECURRING_EARN_ASSETS_SCORE",$B$3)) | H34: =IF($A34="","",_xll.ciqfunctions.udf.CIQ($A34,"IQ_NET_WORKING_CAP_REV_SCORE",$B$3)) | I34: =IF($A34="","",_xll.ciqfunctions.udf.CIQ($A34,"IQ_ASSET_TURNS_SCORE",$B$3)) | J34: =IF($A34="","",_xll.ciqfunctions.udf.CIQ($A34,"IQ_INTAN_ASSETS_REV_SCORE",$B$3)) | K34: =IF($A34="","",_xll.ciqfunctions.udf.CIQ($A34,"IQ_NET_WORKING_CAP_TOTAL_ASSETS_SCORE",$B$3)) | L34: =IF($A34="","",_xll.ciqfunctions.udf.CIQ($A34,"IQ_AP_AR_SCORE",$B$3)) | M34: =IF($A34="","",_xll.ciqfunctions.udf.CIQ($A34,"IQ_MGMT_RATE_RETURN_SCORE",$B$3)) | N34: =IF($A34="","",_xll.ciqfunctions.udf.CIQ($A34,"IQ_GROSS_MARGIN_SCORE",$B$3)) | O34: =IF($A34="","",_xll.ciqfunctions.udf.CIQ($A34,"IQ_EBITDA_MARGIN_SCORE",$B$3)) | Q34: =IF($A34="","",_xll.ciqfunctions.udf.CIQ($A34,"IQ_SOLVENCY_SCORE",$B$3)) | R34: =IF($A34="","",_xll.ciqfunctions.udf.CIQ($A34,"IQ_FFO_INT_SCORE",$B$3)) | S34: =IF($A34="","",_xll.ciqfunctions.udf.CIQ($A34,"IQ_EBITDA_INT_SCORE",$B$3)) | T34: =IF($A34="","",_xll.ciqfunctions.udf.CIQ($A34,"IQ_FFO_TOTAL_DEBT_SCORE",$B$3)) | U34: =IF($A34="","",_xll.ciqfunctions.udf.CIQ($A34,"IQ_NET_DEBT_EBITDA_SCORE",$B$3)) | V34: =IF($A34="","",_xll.ciqfunctions.udf.CIQ($A34,"IQ_TOTAL_DEBT_CAP_SCORE",$B$3)) | W34: =IF($A34="","",_xll.ciqfunctions.udf.CIQ($A34,"IQ_DEBT_TOTAL_LIAB_SCORE",$B$3)) | X34: =IF($A34="","",_xll.ciqfunctions.udf.CIQ($A34,"IQ_TOTAL_DEBT_TOTAL_REV_SCORE",$B$3)) | Z34: =IF($A34="","",_xll.ciqfunctions.udf.CIQ($A34,"IQ_LIQUID_SCORE",$B$3)) | AA34: =IF($A34="","",_xll.ciqfunctions.udf.CIQ($A34,"IQ_FFO_PLUS_CASH_ST_DEBT_SCORE",$B$3)) | AB34: =IF($A34="","",_xll.ciqfunctions.udf.CIQ($A34,"IQ_FFO_GROSS_PROFIT_SCORE",$B$3)) | AC34: =IF($A34="","",_xll.ciqfunctions.udf.CIQ($A34,"IQ_BASIC_DEFENSE_INTERVAL_SCORE",$B$3)) | AD34: =IF($A34="","",_xll.ciqfunctions.udf.CIQ($A34,"IQ_CURRENT_RATIO_SCORE",$B$3)) | AE34: =IF($A34="","",_xll.ciqfunctions.udf.CIQ($A34,"IQ_QUICK_RATIO_SCORE",$B$3))
